gdsfmt 1.2.2 Xiuwen Zheng
Snapshot Date: 2015-04-09 16:20:12 -0700 (Thu, 09 Apr 2015) | URL: https://hedgehog.fhcrc.org/bioconductor/branches/RELEASE_3_0/madman/Rpacks/gdsfmt | Last Changed Rev: 98410 / Revision: 102249 | Last Changed Date: 2015-01-16 13:00:05 -0800 (Fri, 16 Jan 2015) |
| zin1 | Linux (Ubuntu 12.04.4 LTS) / x86_64 | OK | OK | OK | |
moscato1 | Windows Server 2008 R2 Enterprise SP1 (64-bit) / x64 | OK | OK | OK | [ OK ] |
perceval | Mac OS X Snow Leopard (10.6.8) / x86_64 | OK | OK | OK | OK |
oaxaca | Mac OS X Mavericks (10.9.5) / x86_64 | OK | OK | OK | OK |
##############################################################################
##############################################################################
###
### Running command:
###
### cd gdsfmt.buildbin-libdir/gdsfmt && zip -r ../../gdsfmt_1.2.2.zip . & cd ../..
###
##############################################################################
##############################################################################
adding: CITATION (188 bytes security) (deflated 53%)
adding: COPYRIGHTS (188 bytes security) (deflated 55%)
adding: DESCRIPTION (188 bytes security) (deflated 49%)
adding: doc/ (256 bytes security) (stored 0%)
adding: doc/gdsfmt_vignette.pdf (188 bytes security) (deflated 13%)
adding: doc/gdsfmt_vignette.R (188 bytes security) (deflated 79%)
adding: doc/gdsfmt_vignette.Rnw (188 bytes security) (deflated 63%)
adding: doc/index.html (188 bytes security) (deflated 58%)
adding: help/ (256 bytes security) (stored 0%)
adding: help/aliases.rds (188 bytes security) (stored 0%)
adding: help/AnIndex (188 bytes security) (deflated 69%)
adding: help/gdsfmt.rdb (188 bytes security) (deflated 2%)
adding: help/gdsfmt.rdx (188 bytes security) (stored 0%)
adding: help/paths.rds (188 bytes security) (stored 0%)
adding: html/ (256 bytes security) (stored 0%)
adding: html/00Index.html (188 bytes security) (deflated 76%)
adding: html/R.css (188 bytes security) (deflated 70%)
adding: include/ (256 bytes security) (stored 0%)
adding: include/CoreDEF.h (188 bytes security) (deflated 83%)
adding: include/dTrait.h (188 bytes security) (deflated 83%)
adding: include/dType.h (188 bytes security) (deflated 74%)
adding: include/R_GDS.h (188 bytes security) (deflated 73%)
adding: include/R_GDS2.h (188 bytes security) (deflated 81%)
adding: include/R_GDS_CPP.h (188 bytes security) (deflated 64%)
adding: INDEX (188 bytes security) (deflated 67%)
adding: LGPLv3 (188 bytes security) (deflated 68%)
adding: libs/ (256 bytes security) (stored 0%)
adding: libs/i386/ (256 bytes security) (stored 0%)
adding: libs/i386/gdsfmt.dll (188 bytes security) (deflated 77%)
adding: libs/x64/ (256 bytes security) (stored 0%)
adding: libs/x64/gdsfmt.dll (188 bytes security) (deflated 78%)
adding: MD5 (188 bytes security) (deflated 44%)
adding: Meta/ (256 bytes security) (stored 0%)
adding: Meta/hsearch.rds (188 bytes security) (stored 0%)
adding: Meta/links.rds (188 bytes security) (stored 0%)
adding: Meta/nsInfo.rds (188 bytes security) (stored 0%)
adding: Meta/package.rds (188 bytes security) (stored 0%)
adding: Meta/Rd.rds (188 bytes security) (stored 0%)
adding: Meta/vignette.rds (188 bytes security) (stored 0%)
adding: NAMESPACE (188 bytes security) (deflated 58%)
adding: NEWS (188 bytes security) (deflated 67%)
adding: R/ (256 bytes security) (stored 0%)
adding: R/gdsfmt (188 bytes security) (deflated 41%)
adding: R/gdsfmt.rdb (188 bytes security) (deflated 4%)
adding: R/gdsfmt.rdx (188 bytes security) (stored 0%)
adding: unitTests/ (256 bytes security) (stored 0%)
adding: unitTests/runit.01.datatype.r (188 bytes security) (deflated 77%)
adding: unitTests/runit.02.dataconvert.r (188 bytes security) (deflated 68%)
adding: unitTests/runit.03.dimension.r (188 bytes security) (deflated 72%)
adding: unitTests/runit.04.datareadwrite.r (188 bytes security) (deflated 77%)
adding: unitTests/runit.05.attribute.r (188 bytes security) (deflated 55%)
adding: unitTests/runit.06.apply.r (188 bytes security) (deflated 80%)
adding: unitTests/valid/ (256 bytes security) (stored 0%)
adding: unitTests/valid/standard.RData (188 bytes security) (stored 0%)