HIVcDNAvantWout03 1.2.3 Chris Fraley
 | Snapshot Date: 2011-07-01 11:15:06 -0700 (Fri, 01 Jul 2011) |  | URL: https://hedgehog.fhcrc.org/bioc-data/trunk/experiment/pkgs/HIVcDNAvantWout03 |  | Last Changed Rev: 959 / Revision: 1675 |  | Last Changed Date: 2009-09-10 11:19:18 -0700 (Thu, 10 Sep 2009) |  
  | wilson2  | Linux (openSUSE 11.4) / x86_64  |  OK  |  OK  |  | 
| liverpool  | Windows Server 2003 R2 (32-bit) / x64  |  OK  |  OK  |  OK  | 
| petty  | Mac OS X Snow Leopard (10.6.7) / i386  |  OK  |  OK  | [ OK ] | 
>>>>>>> 
>>>>>>> INSTALLATION WITH 'R CMD INSTALL --preclean --library=HIVcDNAvantWout03.buildbin-libdir HIVcDNAvantWout03_1.2.3.tar.gz'
>>>>>>> 
* installing *source* package 'HIVcDNAvantWout03' ...
** data
** inst
** help
*** installing help indices
** building package indices ...
** testing if installed package can be loaded
* DONE (HIVcDNAvantWout03)