| Back to the "Multiple platform build/check report" |
| Package 57/98 | Hostname | OS / Arch | BUILD | CHECK | BUILD BIN | ||||
| HIVcDNAvantWout03 1.2.3 Chris Fraley
| wilson2 | Linux (openSUSE 11.4) / x86_64 | OK | OK | |||||
| liverpool | Windows Server 2003 R2 (32-bit) / x64 | OK | OK | [ OK ] | |||||
| pitt | Mac OS X Leopard (10.5.8) / i386 | OK | OK | OK |
| Package: HIVcDNAvantWout03 |
| Version: 1.2.3 |
| Command: mkdir HIVcDNAvantWout03.buildbin-libdir && E:\biocbld\bbs-2.9-bioc\R\bin\R.exe CMD INSTALL --build --no-multiarch --library=HIVcDNAvantWout03.buildbin-libdir HIVcDNAvantWout03_1.2.3.tar.gz |
| StartedAt: 2011-07-06 17:06:25 -0700 (Wed, 06 Jul 2011) |
| EndedAt: 2011-07-06 17:06:35 -0700 (Wed, 06 Jul 2011) |
| EllapsedTime: 10.0 seconds |
| RetCode: 0 |
| Status: OK |
| PackageFile: HIVcDNAvantWout03_1.2.3.zip |
| PackageFileSize: 1.72 MiB |
* installing *source* package 'HIVcDNAvantWout03' ... ** data ** inst ** help *** installing help indices ** building package indices ... ** testing if installed package can be loaded * MD5 sums packaged installation of 'HIVcDNAvantWout03' as HIVcDNAvantWout03_1.2.3.zip * DONE (HIVcDNAvantWout03)