RCytoscape 1.3.2 Paul Shannon
| Snapshot Date: 2011-07-06 19:21:50 -0700 (Wed, 06 Jul 2011) | | URL: https://hedgehog.fhcrc.org/bioconductor/trunk/madman/Rpacks/RCytoscape | | Last Changed Rev: 56116 / Revision: 56603 | | Last Changed Date: 2011-06-11 16:13:39 -0700 (Sat, 11 Jun 2011) |
| wilson2 | Linux (openSUSE 11.4) / x86_64 | ERROR | skipped | |
| liverpool | Windows Server 2003 R2 (32-bit) / x64 | ERROR | skipped | skipped |
| gewurz | Windows Server 2008 R2 Enterprise (64-bit) / x64 | OK | ERROR | OK |
| moscato1 | Windows Server 2008 R2 Enterprise (64-bit) / x64 | OK | TIMEOUT | [ ERROR ] |
| pitt | Mac OS X Leopard (10.5.8) / i386 | OK | OK | OK |