GGtools 3.11.31 Vince Carey
| Snapshot Date: 2011-07-06 19:21:50 -0700 (Wed, 06 Jul 2011) | | URL: https://hedgehog.fhcrc.org/bioconductor/trunk/madman/Rpacks/GGtools | | Last Changed Rev: 56132 / Revision: 56603 | | Last Changed Date: 2011-06-13 03:37:12 -0700 (Mon, 13 Jun 2011) |
| wilson2 | Linux (openSUSE 11.4) / x86_64 | OK | OK | |
| liverpool | Windows Server 2003 R2 (32-bit) / x64 | OK | OK | OK |
| gewurz | Windows Server 2008 R2 Enterprise (64-bit) / x64 | [ OK ] | OK | OK |
| moscato1 | Windows Server 2008 R2 Enterprise (64-bit) / x64 | OK | ERROR | ERROR |
| pitt | Mac OS X Leopard (10.5.8) / i386 | OK | WARNINGS | OK |
* checking for file 'GGtools/DESCRIPTION' ... OK
* preparing 'GGtools':
* checking DESCRIPTION meta-information ... OK
* installing the package to re-build vignettes
* creating vignettes ... OK
* checking for LF line-endings in source and make files
* checking for empty or unneeded directories
* looking to see if a 'data/datalist' file should be added
* building 'GGtools_3.11.31.tar.gz'