| GGtools 3.11.31 Vince Carey
 
 | Snapshot Date: 2011-07-06 19:21:50 -0700 (Wed, 06 Jul 2011) |  | URL: https://hedgehog.fhcrc.org/bioconductor/trunk/madman/Rpacks/GGtools |  | Last Changed Rev: 56132 / Revision: 56603 |  | Last Changed Date: 2011-06-13 03:37:12 -0700 (Mon, 13 Jun 2011) | 
 | wilson2 | Linux (openSUSE 11.4) / x86_64 | OK | OK |  | 
| liverpool | Windows Server 2003 R2 (32-bit) / x64 | OK | OK | OK | 
| gewurz | Windows Server 2008 R2 Enterprise (64-bit) / x64 | OK | OK | [ OK ] | 
| moscato1 | Windows Server 2008 R2 Enterprise (64-bit) / x64 | OK | ERROR | ERROR | 
| pitt | Mac OS X Leopard (10.5.8) / i386 | OK | WARNINGS | OK | 
* installing *source* package 'GGtools' ...
** R
** data
** inst
** preparing package for lazy loading
Welcome to Bioconductor
  Vignettes contain introductory material. To view, type
  'browseVignettes()'. To cite Bioconductor, see
  'citation("Biobase")' and for packages 'citation("pkgname")'.
Loading required package: snpStats
Loading required package: survival
Loading required package: splines
Loading required package: Matrix
Loading required package: lattice
Attaching package: 'Matrix'
The following object(s) are masked from 'package:base':
    det
Loading required package: RSQLite
Loading required package: DBI
Loading required package: AnnotationDbi
Attaching package: 'IRanges'
The following object(s) are masked from 'package:Biobase':
    updateObject
The following object(s) are masked from 'package:base':
    Map, cbind, eval, intersect, mapply, order, paste, pmax, pmax.int,
    pmin, pmin.int, rbind, rep.int, setdiff, table, union
Loading required package: RCurl
Loading required package: bitops
Loading package bit1.1-7
package:bit (c) 2008/2009 Jens Oehlschlaegel (GPL-2)
creators: bit bitwhich
coercion: as.logical as.integer as.bit as.bitwhich which
operator: ! & | xor != == 
querying: print length any all min max range sum summary
bit access: length<- [ [<- [[ [[<-
for more help type ?bit
Loading package ff2.2-2
- getOption("fftempdir")=="D:/biocbld/bbs-2.9-bioc/tmpdir/RtmpacCqzO"
- getOption("ffextension")=="ff"
- getOption("ffdrop")==TRUE
- getOption("fffinonexit")==TRUE
- getOption("ffpagesize")==65536
- getOption("ffcaching")=="mmnoflush"  -- consider "ffeachflush" if your system stalls on large writes
- getOption("ffbatchbytes")==42928701.44 -- consider a different value for tuning your system
- getOption("ffmaxbytes")==2146435072 -- consider a different value for tuning your system
in method for 'coerce' with signature '"multffManager","eqtlTestsManager"': no definition for class "multffManager"
** help
*** installing help indices
** building package indices ...
*** tangling vignette sources ...
   'GGtools_2011.Rnw' 
   'binf09supp.Rnw' 
   'external.Rnw' 
** testing if installed package can be loaded
* MD5 sums
packaged installation of 'GGtools' as GGtools_3.11.31.zip
* DONE (GGtools)