hmyriB36 0.99.8 Vincent Carey
| Snapshot Date: 2011-07-02 23:15:14 -0700 (Sat, 02 Jul 2011) | | URL: https://hedgehog.fhcrc.org/bioc-data/trunk/experiment/pkgs/hmyriB36 | | Last Changed Rev: 1492 / Revision: 1676 | | Last Changed Date: 2011-04-03 06:38:16 -0700 (Sun, 03 Apr 2011) |
| lamb1 | Linux (openSUSE 11.3) / x86_64 | OK | OK | |
| gewurz | Windows Server 2008 R2 Enterprise (64-bit) / x64 | OK | OK | OK |
| petty | Mac OS X Snow Leopard (10.6.7) / i386 | [ OK ] | WARNINGS | OK |
* checking for file 'hmyriB36/DESCRIPTION' ... OK
* preparing 'hmyriB36':
* checking DESCRIPTION meta-information ... OK
* checking for LF line-endings in source and make files
* checking for empty or unneeded directories
WARNING: directory 'hmyriB36/inst/extdata' is empty
* looking to see if a 'data/datalist' file should be added
* building 'hmyriB36_0.99.8.tar.gz'