hmyriB36 0.99.8 Vincent Carey
 | Snapshot Date: 2011-07-02 23:15:14 -0700 (Sat, 02 Jul 2011) |  | URL: https://hedgehog.fhcrc.org/bioc-data/trunk/experiment/pkgs/hmyriB36 |  | Last Changed Rev: 1492 / Revision: 1676 |  | Last Changed Date: 2011-04-03 06:38:16 -0700 (Sun, 03 Apr 2011) |  
  | lamb1  | Linux (openSUSE 11.3) / x86_64  |  OK  |  OK  |  | 
| gewurz  | Windows Server 2008 R2 Enterprise (64-bit) / x64  |  OK  |  OK  |  OK  | 
| petty  | Mac OS X Snow Leopard (10.6.7) / i386  |  OK  |  WARNINGS  | [ OK ] | 
>>>>>>> 
>>>>>>> INSTALLATION WITH 'R CMD INSTALL --preclean --library=hmyriB36.buildbin-libdir hmyriB36_0.99.8.tar.gz'
>>>>>>> 
* installing *source* package 'hmyriB36' ...
** R
** data
** inst
** preparing package for lazy loading
Welcome to Bioconductor
  Vignettes contain introductory material. To view, type
  'browseVignettes()'. To cite Bioconductor, see
  'citation("Biobase")' and for packages 'citation("pkgname")'.
Loading required package: GGBase
Loading required package: snpStats
Loading required package: survival
Loading required package: splines
Loading required package: Matrix
Loading required package: lattice
Attaching package: 'Matrix'
The following object(s) are masked from 'package:base':
    det
Loading required package: RSQLite
Loading required package: DBI
Loading required package: annotate
Loading required package: AnnotationDbi
Loading required package: IRanges
Attaching package: 'IRanges'
The following object(s) are masked from 'package:Biobase':
    updateObject
The following object(s) are masked from 'package:base':
    Map, cbind, eval, intersect, mapply, order, paste, pmax, pmax.int,
    pmin, pmin.int, rbind, rep.int, setdiff, table, union
Loading required package: rtracklayer
Loading required package: RCurl
Loading required package: bitops
Loading required package: org.Hs.eg.db
Loading required package: GenomicRanges
Loading required package: ff
Loading required package: tools
Loading required package: bit
Warning: 'DESCRIPTION' file has 'Encoding' field and re-encoding is not possible
Loading package bit1.1-7
package:bit (c) 2008/2009 Jens Oehlschlaegel (GPL-2)
creators: bit bitwhich
coercion: as.logical as.integer as.bit as.bitwhich which
operator: ! & | xor != == 
querying: print length any all min max range sum summary
bit access: length<- [ [<- [[ [[<-
for more help type ?bit
Attaching package: 'bit'
The following object(s) are masked from 'package:base':
    xor
Warning: 'DESCRIPTION' file has 'Encoding' field and re-encoding is not possible
Loading package ff2.2-2
- getOption("fftempdir")=="/tmp/RtmpjQhe75"
- getOption("ffextension")=="ff"
- getOption("ffdrop")==TRUE
- getOption("fffinonexit")==TRUE
- getOption("ffpagesize")==65536
- getOption("ffcaching")=="mmnoflush"  -- consider "ffeachflush" if your system stalls on large writes
- getOption("ffbatchbytes")==16777216 -- consider a different value for tuning your system
- getOption("ffmaxbytes")==536870912 -- consider a different value for tuning your system
Attaching package ff
Attaching package: 'ff'
The following object(s) are masked from 'package:utils':
    write.csv, write.csv2
The following object(s) are masked from 'package:base':
    is.factor, is.ordered
** help
*** installing help indices
** building package indices ...
** testing if installed package can be loaded
To get a tailored smlSet, use getSS("hmyriB36", [chrvec]) 
available chromosomes are named  1 10 ... X Y 
Warning messages:
1: 'DESCRIPTION' file has 'Encoding' field and re-encoding is not possible 
2: 'DESCRIPTION' file has 'Encoding' field and re-encoding is not possible 
* DONE (hmyriB36)