PREDAsampledata 0.2.2 Francesco Ferrari
| Snapshot Date: 2011-10-18 23:15:16 -0700 (Tue, 18 Oct 2011) | | URL: https://hedgehog.fhcrc.org/bioc-data/trunk/experiment/pkgs/PREDAsampledata | | Last Changed Rev: 1768 / Revision: 1769 | | Last Changed Date: 2011-10-18 16:16:16 -0700 (Tue, 18 Oct 2011) |
| lamb1 | Linux (openSUSE 11.3) / x86_64 | OK | ERROR | |
| gewurz | Windows Server 2008 R2 Enterprise SP1 (64-bit) / x64 | OK | ERROR | OK |
| pelham | Mac OS X Leopard (10.5.8) / i386 | [ OK ] | ERROR | OK |
* checking for file 'PREDAsampledata/DESCRIPTION' ... OK
* preparing 'PREDAsampledata':
* checking DESCRIPTION meta-information ... OK
* checking for LF line-endings in source and make files
* checking for empty or unneeded directories
* looking to see if a 'data/datalist' file should be added
* building 'PREDAsampledata_0.2.2.tar.gz'