| Back to the "Multiple platform build/check report" | A B C D E F G H I J K L M N O [P] Q R S T U V W X Y Z |
| Package 319/436 | Hostname | OS / Arch | BUILD | CHECK | BUILD BIN | ||||
| plier 1.21.1 Crispin Miller
| lamb2 | Linux (openSUSE 11.2) / x86_64 | OK | OK | |||||
| liverpool | Windows Server 2003 R2 (32-bit) / x64 | OK | OK | OK | |||||
| gewurz | Windows Server 2008 R2 Enterprise (64-bit) / x64 | OK | OK | OK | |||||
| pelham | Mac OS X Leopard (10.5.8) / i386 | [ OK ] | OK | OK | |||||
| petty | Mac OS X Snow Leopard (10.6.4) / i386 | OK | OK | OK |
| Package: plier |
| Version: 1.21.1 |
| Command: /Library/Frameworks/R.framework/Versions/2.13/Resources/bin/R CMD build plier |
| StartedAt: 2011-02-24 14:25:15 -0800 (Thu, 24 Feb 2011) |
| EndedAt: 2011-02-24 14:25:16 -0800 (Thu, 24 Feb 2011) |
| EllapsedTime: 1.8 seconds |
| RetCode: 0 |
| Status: OK |
| PackageFile: plier_1.21.1.tar.gz |
| PackageFileSize: 20.26 KiB |
* checking for file ‘plier/DESCRIPTION’ ... OK * preparing ‘plier’: * checking DESCRIPTION meta-information ... OK * cleaning src * checking for LF line-endings in source and make files * checking for empty or unneeded directories * building ‘plier_1.21.1.tar.gz’