plier 1.21.1 Crispin Miller
 | Snapshot Date: 2011-02-24 11:26:35 -0800 (Thu, 24 Feb 2011) |  | URL: https://hedgehog.fhcrc.org/bioconductor/trunk/madman/Rpacks/plier |  | Last Changed Rev: 51561 / Revision: 53255 |  | Last Changed Date: 2010-12-15 15:12:44 -0800 (Wed, 15 Dec 2010) |  
  | lamb2  | Linux (openSUSE 11.2) / x86_64  |  OK  |  OK  |  | 
| liverpool  | Windows Server 2003 R2 (32-bit) / x64  | [ OK ] |  OK  |  OK  | 
| gewurz  | Windows Server 2008 R2 Enterprise (64-bit) / x64  |  OK  |  OK  |  OK  | 
| pelham  | Mac OS X Leopard (10.5.8) / i386  |  OK  |  OK  |  OK  | 
| petty  | Mac OS X Snow Leopard (10.6.4) / i386  |  OK  |  OK  |  OK  |