Back to the "Multiple platform build/check report"

Package 51/86HostnameOS / ArchBUILDCHECKBUILD BIN
ind1KG 0.1.5
VJ Carey
Snapshot Date: 2011-04-05 12:27:32 -0700 (Tue, 05 Apr 2011)
URL: https://hedgehog.fhcrc.org/bioc-data/trunk/experiment/pkgs/ind1KG
Last Changed Rev: 1348 / Revision: 1495
Last Changed Date: 2010-10-13 19:41:41 -0700 (Wed, 13 Oct 2010)
lamb2 Linux (openSUSE 11.2) / x86_64  OK  OK 
gewurz Windows Server 2008 R2 Enterprise (64-bit) / x64  OK [ OK ] OK 
petty Mac OS X Snow Leopard (10.6.6) / i386  OK  OK  OK 

Summary

Package: ind1KG
Version: 0.1.5
Command: D:\biocbld\bbs-2.7-bioc\R\bin\R.exe CMD check --no-vignettes --timings ind1KG_0.1.5.tar.gz
StartedAt: 2011-04-05 16:00:15 -0700 (Tue, 05 Apr 2011)
EndedAt: 2011-04-05 16:07:13 -0700 (Tue, 05 Apr 2011)
EllapsedTime: 417.7 seconds
RetCode: 0
Status:  OK  
CheckDir: ind1KG.Rcheck
Warnings: 0

Command output

* using log directory 'D:/biocbld/bbs-2.7-data-experiment/meat/ind1KG.Rcheck'
* using R version 2.12.2 (2011-02-25)
* using platform: x86_64-pc-mingw32 (64-bit)
* using session charset: ISO8859-1
* using option '--no-vignettes'
* checking for file 'ind1KG/DESCRIPTION' ... OK
* this is package 'ind1KG' version '0.1.5'
* checking package dependencies ... OK
* checking if this is a source package ... OK
* checking whether package 'ind1KG' can be installed ... OK
* checking package directory ... OK
* checking for portable file names ... OK
* checking DESCRIPTION meta-information ... OK
* checking top-level files ... OK
* checking index information ... OK
* checking package subdirectories ... OK
* checking whether the package can be loaded ... OK
* checking whether the package can be loaded with stated dependencies ... OK
* checking whether the package can be unloaded cleanly ... OK
* checking Rd files ... OK
* checking Rd metadata ... OK
* checking Rd cross-references ... OK
* checking for missing documentation entries ... OK
* checking for code/documentation mismatches ... OK
* checking Rd \usage sections ... OK
* checking Rd contents ... OK
* checking for unstated dependencies in examples ... OK
* checking data for non-ASCII characters ... OK
* checking examples ... OK
* checking package vignettes in 'inst/doc' ... SKIPPED
* checking PDF version of manual ... OK

ind1KG.Rcheck/00install.out:

* installing *source* package 'ind1KG' ...
** data
** inst
** help
*** installing help indices
** building package indices ...
** testing if installed package can be loaded

* DONE (ind1KG)

ind1KG.Rcheck/ind1KG-Ex.timings:

nameusersystemelapsed
c6snp13.92 0.1014.06
gw6c6.snp2400.170.000.49
n24024.93 0.2327.26
oregdf0.000.020.02
pup240_500k2.620.062.69
pup240_disc0.090.000.09
rsgdf000
yri240_60.590.000.61