ind1KG 0.1.5 VJ Carey
 | Snapshot Date: 2011-04-06 12:27:26 -0700 (Wed, 06 Apr 2011) |  | URL: https://hedgehog.fhcrc.org/bioc-data/trunk/experiment/pkgs/ind1KG |  | Last Changed Rev: 1348 / Revision: 1510 |  | Last Changed Date: 2010-10-13 19:41:41 -0700 (Wed, 13 Oct 2010) |  
  | lamb2  | Linux (openSUSE 11.2) / x86_64  |  OK  |  OK  |  | 
| gewurz  | Windows Server 2008 R2 Enterprise (64-bit) / x64  |  ERROR  |  skipped  |  skipped  | 
| petty  | Mac OS X Snow Leopard (10.6.6) / i386  |  OK  |  OK  | [ OK ] | 
>>>>>>> 
>>>>>>> INSTALLATION WITH 'R CMD INSTALL --preclean --library=ind1KG.buildbin-libdir ind1KG_0.1.5.tar.gz'
>>>>>>> 
* installing *source* package 'ind1KG' ...
** data
** inst
** help
*** installing help indices
** building package indices ...
** testing if installed package can be loaded
* DONE (ind1KG)