| Back to the "Multiple platform build/check report" |
| Package 11/84 | Hostname | OS / Arch | BUILD | CHECK | BUILD BIN | ||||
| ceuhm3 0.0.5 VJ Carey
| lamb2 | Linux (openSUSE 11.2) / x86_64 | OK | OK | |||||
| liverpool | Windows Server 2003 R2 (32-bit) / x64 | [ OK ] | OK | OK | |||||
| pelham | Mac OS X Leopard (10.5.8) / i386 | OK | OK | OK |
| Package: ceuhm3 |
| Version: 0.0.5 |
| Command: chmod a+r ceuhm3 -R && E:\biocbld\bbs-2.7-bioc\R\bin\R.exe CMD build ceuhm3 |
| StartedAt: 2010-11-11 15:15:49 -0800 (Thu, 11 Nov 2010) |
| EndedAt: 2010-11-11 15:16:12 -0800 (Thu, 11 Nov 2010) |
| EllapsedTime: 23.5 seconds |
| RetCode: 0 |
| Status: OK |
| PackageFile: ceuhm3_0.0.5.tar.gz |
| PackageFileSize: 108.7 MiB |
* checking for file 'ceuhm3/DESCRIPTION' ... OK * preparing 'ceuhm3': * checking DESCRIPTION meta-information ... OK * checking for LF line-endings in source and make files * checking for empty or unneeded directories * building 'ceuhm3_0.0.5.tar.gz'