| Back to the "Multiple platform build/check report" |
| Package 18/92 | Hostname | OS / Arch | BUILD | CHECK | BUILD BIN | ||||
| ceuhm3 0.0.6 VJ Carey
| lamb2 | Linux (openSUSE 11.2) / x86_64 | [ OK ] | OK | |||||
| gewurz | Windows Server 2008 R2 Enterprise (64-bit) / x64 | OK | OK | OK | |||||
| petty | Mac OS X Snow Leopard (10.6.6) / i386 | OK | OK | OK |
| Package: ceuhm3 |
| Version: 0.0.6 |
| Command: /home/biocbuild/bbs-2.7-bioc/R/bin/R CMD build ceuhm3 |
| StartedAt: 2011-04-06 14:02:18 -0700 (Wed, 06 Apr 2011) |
| EndedAt: 2011-04-06 14:02:25 -0700 (Wed, 06 Apr 2011) |
| EllapsedTime: 7.5 seconds |
| RetCode: 0 |
| Status: OK |
| PackageFile: ceuhm3_0.0.6.tar.gz |
| PackageFileSize: 108.7 MiB |
* checking for file ‘ceuhm3/DESCRIPTION’ ... OK * preparing ‘ceuhm3’: * checking DESCRIPTION meta-information ... OK * checking for LF line-endings in source and make files * checking for empty or unneeded directories * building ‘ceuhm3_0.0.6.tar.gz’