| Back to the "Multiple platform build/check report" |
| Package 64/82 | Hostname | OS / Arch | BUILD | CHECK | BUILD BIN | ||||
| msdata 0.1.5 Steffen Neumann
| lamb2 | Linux (openSUSE 11.2) / x86_64 | OK | OK | |||||
| gewurz | Windows Server 2008 R2 Enterprise (64-bit) / x64 | OK | OK | OK | |||||
| pelham | Mac OS X Leopard (10.5.8) / i386 | [ OK ] | OK | OK |
| Package: msdata |
| Version: 0.1.5 |
| Command: /Library/Frameworks/R.framework/Versions/2.12/Resources/bin/R CMD build msdata |
| StartedAt: 2011-02-27 14:09:12 -0800 (Sun, 27 Feb 2011) |
| EndedAt: 2011-02-27 14:09:21 -0800 (Sun, 27 Feb 2011) |
| EllapsedTime: 8.8 seconds |
| RetCode: 0 |
| Status: OK |
| PackageFile: msdata_0.1.5.tar.gz |
| PackageFileSize: 10.53 MiB |
* checking for file ‘msdata/DESCRIPTION’ ... OK * preparing ‘msdata’: * checking DESCRIPTION meta-information ... OK * checking for LF line-endings in source and make files * checking for empty or unneeded directories * building ‘msdata_0.1.5.tar.gz’