| Back to the "Multiple platform build/check report" |
| Package 72/92 | Hostname | OS / Arch | BUILD | CHECK | BUILD BIN | ||||
| msdata 0.1.5 Steffen Neumann
| lamb2 | Linux (openSUSE 11.2) / x86_64 | OK | OK | |||||
| gewurz | Windows Server 2008 R2 Enterprise (64-bit) / x64 | [ OK ] | OK | OK | |||||
| petty | Mac OS X Snow Leopard (10.6.6) / i386 | OK | OK | OK |
| Package: msdata |
| Version: 0.1.5 |
| Command: chmod a+r msdata -R && D:\biocbld\bbs-2.7-bioc\R\bin\R.exe CMD build --keep-empty-dirs msdata |
| StartedAt: 2011-04-06 15:04:44 -0700 (Wed, 06 Apr 2011) |
| EndedAt: 2011-04-06 15:05:02 -0700 (Wed, 06 Apr 2011) |
| EllapsedTime: 17.5 seconds |
| RetCode: 0 |
| Status: OK |
| PackageFile: msdata_0.1.5.tar.gz |
| PackageFileSize: 10.53 MiB |
Warning: unknown option '--keep-empty-dirs' * checking for file 'msdata/DESCRIPTION' ... OK * preparing 'msdata': * checking DESCRIPTION meta-information ... OK * checking for LF line-endings in source and make files * checking for empty or unneeded directories * building 'msdata_0.1.5.tar.gz'