| Back to the "Multiple platform build/check report" |
| Package 46/84 | Hostname | OS / Arch | BUILD | CHECK | BUILD BIN | ||||
| hgu133plus2barcodevecs 1.0.1 Matthew N. McCall
| lamb2 | Linux (openSUSE 11.2) / x86_64 | OK | OK | |||||
| liverpool | Windows Server 2003 R2 (32-bit) / x64 | [ OK ] | OK | OK | |||||
| pelham | Mac OS X Leopard (10.5.8) / i386 | OK | OK | OK |
| Package: hgu133plus2barcodevecs |
| Version: 1.0.1 |
| Command: chmod a+r hgu133plus2barcodevecs -R && E:\biocbld\bbs-2.7-bioc\R\bin\R.exe CMD build hgu133plus2barcodevecs |
| StartedAt: 2010-11-11 15:11:16 -0800 (Thu, 11 Nov 2010) |
| EndedAt: 2010-11-11 15:11:19 -0800 (Thu, 11 Nov 2010) |
| EllapsedTime: 2.5 seconds |
| RetCode: 0 |
| Status: OK |
| PackageFile: hgu133plus2barcodevecs_1.0.1.tar.gz |
| PackageFileSize: 1.209 MiB |
* checking for file 'hgu133plus2barcodevecs/DESCRIPTION' ... OK * preparing 'hgu133plus2barcodevecs': * checking DESCRIPTION meta-information ... OK * checking for LF line-endings in source and make files * checking for empty or unneeded directories * building 'hgu133plus2barcodevecs_1.0.1.tar.gz'