| Back to the "Multiple platform build/check report" | 
| Package 44/82 | Hostname | OS / Arch | BUILD | CHECK | BUILD BIN | ||||
| hgu133plus2barcodevecs 1.0.1 Matthew N. McCall 
  | lamb2 | Linux (openSUSE 11.2) / x86_64 | OK | OK | |||||
| gewurz | Windows Server 2008 R2 Enterprise (64-bit) / x64 | OK | OK | OK | |||||
| pelham | Mac OS X Leopard (10.5.8) / i386 | [ OK ] | OK | OK | 
| Package: hgu133plus2barcodevecs | 
| Version: 1.0.1 | 
| Command: /Library/Frameworks/R.framework/Versions/2.12/Resources/bin/R CMD build hgu133plus2barcodevecs | 
| StartedAt: 2011-02-27 14:19:25 -0800 (Sun, 27 Feb 2011) | 
| EndedAt: 2011-02-27 14:19:27 -0800 (Sun, 27 Feb 2011) | 
| EllapsedTime: 1.8 seconds | 
| RetCode: 0 | 
| Status: OK | 
| PackageFile: hgu133plus2barcodevecs_1.0.1.tar.gz | 
| PackageFileSize: 1.209 MiB | 
* checking for file ‘hgu133plus2barcodevecs/DESCRIPTION’ ... OK * preparing ‘hgu133plus2barcodevecs’: * checking DESCRIPTION meta-information ... OK * checking for LF line-endings in source and make files * checking for empty or unneeded directories * building ‘hgu133plus2barcodevecs_1.0.1.tar.gz’