| Back to the "Multiple platform build/check report" | 
| Package 51/82 | Hostname | OS / Arch | BUILD | CHECK | BUILD BIN | ||||
| ITALICSData 2.0.1 Guillem Rigaill 
  | lamb2 | Linux (openSUSE 11.2) / x86_64 | OK | OK | |||||
| gewurz | Windows Server 2008 R2 Enterprise (64-bit) / x64 | OK | OK | OK | |||||
| pelham | Mac OS X Leopard (10.5.8) / i386 | [ OK ] | OK | OK | 
| Package: ITALICSData | 
| Version: 2.0.1 | 
| Command: /Library/Frameworks/R.framework/Versions/2.12/Resources/bin/R CMD build ITALICSData | 
| StartedAt: 2011-02-27 14:12:56 -0800 (Sun, 27 Feb 2011) | 
| EndedAt: 2011-02-27 14:16:20 -0800 (Sun, 27 Feb 2011) | 
| EllapsedTime: 204.8 seconds | 
| RetCode: 0 | 
| Status: OK | 
| PackageFile: ITALICSData_2.0.1.tar.gz | 
| PackageFileSize: 84.2 MiB | 
* checking for file ‘ITALICSData/DESCRIPTION’ ... OK * preparing ‘ITALICSData’: * checking DESCRIPTION meta-information ... OK * checking for LF line-endings in source and make files * checking for empty or unneeded directories * building ‘ITALICSData_2.0.1.tar.gz’