ITALICSData 2.0.1 Guillem Rigaill
 | Snapshot Date: 2011-02-27 12:29:13 -0800 (Sun, 27 Feb 2011) |  | URL: https://hedgehog.fhcrc.org/bioc-data/trunk/experiment/pkgs/ITALICSData |  | Last Changed Rev: 801 / Revision: 1436 |  | Last Changed Date: 2009-05-11 12:23:04 -0700 (Mon, 11 May 2009) |  
  | lamb2  | Linux (openSUSE 11.2) / x86_64  |  OK  |  OK  |  | 
| gewurz  | Windows Server 2008 R2 Enterprise (64-bit) / x64  |  OK  |  OK  |  OK  | 
| pelham  | Mac OS X Leopard (10.5.8) / i386  |  OK  |  OK  | [ OK ] | 
>>>>>>> 
>>>>>>> INSTALLATION WITH 'R CMD INSTALL --preclean --library=ITALICSData.buildbin-libdir ITALICSData_2.0.1.tar.gz'
>>>>>>> 
* installing *source* package ‘ITALICSData’ ...
** data
** help
*** installing help indices
** building package indices ...
** testing if installed package can be loaded
* DONE (ITALICSData)