arrayQualityMetrics 3.0.15 Audrey Kauffmann
 | Snapshot Date: 2010-10-07 23:18:58 -0700 (Thu, 07 Oct 2010) |  | URL: https://hedgehog.fhcrc.org/bioconductor/trunk/madman/Rpacks/arrayQualityMetrics |  | Last Changed Rev: 49889 / Revision: 50028 |  | Last Changed Date: 2010-10-03 09:03:43 -0700 (Sun, 03 Oct 2010) |  
  | lamb2  | Linux (openSUSE 11.2) / x86_64  |  OK  |  OK  |  | 
| liverpool  | Windows Server 2003 R2 (32-bit) / x64  |  ERROR  |  skipped  |  skipped  | 
| gewurz  | Windows Server 2008 R2 Enterprise (64-bit) / x64  |  OK  |  OK  | [ OK ] | 
* installing *source* package 'arrayQualityMetrics' ...
** R
** inst
** preparing package for lazy loading
Loading required package: affy
Loading required package: Biobase
Welcome to Bioconductor
  Vignettes contain introductory material. To view, type
  'openVignette()'. To cite Bioconductor, see
  'citation("Biobase")' and for packages 'citation(pkgname)'.
Loading required package: gcrma
Loading required package: preprocessCore
Attaching package: 'affyPLM'
The following object(s) are masked from 'package:stats':
    resid, residuals, weights
** help
*** installing help indices
** building package indices ...
** testing if installed package can be loaded
* MD5 sums
packaged installation of 'arrayQualityMetrics' as arrayQualityMetrics_3.0.15.zip
* DONE (arrayQualityMetrics)