arrayQualityMetrics 3.0.15 Audrey Kauffmann
 | Snapshot Date: 2010-10-12 23:20:30 -0700 (Tue, 12 Oct 2010) |  | URL: https://hedgehog.fhcrc.org/bioconductor/trunk/madman/Rpacks/arrayQualityMetrics |  | Last Changed Rev: 49889 / Revision: 50145 |  | Last Changed Date: 2010-10-03 09:03:43 -0700 (Sun, 03 Oct 2010) |  
  | lamb2  | Linux (openSUSE 11.2) / x86_64  |  OK  |  OK  |  | 
| liverpool  | Windows Server 2003 R2 (32-bit) / x64  |  OK  |  OK  |  OK  | 
| gewurz  | Windows Server 2008 R2 Enterprise (64-bit) / x64  | [ ERROR ] |  skipped  |  skipped  | 
| pelham  | Mac OS X Leopard (10.5.8) / i386  |  OK  |  OK  |  OK  | 
* checking for file 'arrayQualityMetrics/DESCRIPTION' ... OK
* preparing 'arrayQualityMetrics':
* checking DESCRIPTION meta-information ... OK
* installing the package to re-build vignettes
      -----------------------------------
ERROR: dependency 'SVGAnnotation' is not available for package 'arrayQualityMetrics'
* removing 'D:/biocbld/bbs-2.7-bioc/tmpdir/RtmpIh8fzb/Rinst762d409/arrayQualityMetrics'
      -----------------------------------
ERROR: Installation failed
Removing installation dir