| Back to the "Multiple platform build/check report" | 
| Package 6/83 | Hostname | OS / Arch | BUILD | CHECK | BUILD BIN | ||||
| beta7 1.0.0 Jean Yang 
 | wilson1 | Linux (openSUSE 11.1) / x86_64 | OK | OK | |||||
| liverpool | Windows Server 2003 R2 (32-bit) / x64 | [ OK ] | OK | OK | |||||
| pelham | Mac OS X Leopard (10.5.8) / i386 | OK | OK | OK | 
| Package: beta7 | 
| Version: 1.0.0 | 
| Command: chmod a+r beta7 -R && E:\biocbld\bbs-2.6-bioc\R\bin\R.exe CMD build beta7 | 
| StartedAt: 2010-09-24 02:49:30 -0700 (Fri, 24 Sep 2010) | 
| EndedAt: 2010-09-24 02:49:53 -0700 (Fri, 24 Sep 2010) | 
| EllapsedTime: 23.4 seconds | 
| RetCode: 0 | 
| Status: OK | 
| PackageFile: beta7_1.0.0.tar.gz | 
| PackageFileSize: 15.18 MiB | 
* checking for file 'beta7/DESCRIPTION' ... OK * preparing 'beta7': * checking DESCRIPTION meta-information ... OK * removing junk files * checking for LF line-endings in source and make files * checking for empty or unneeded directories * building 'beta7_1.0.0.tar.gz'