* checking for file 'CSAR/DESCRIPTION' ... OK
* preparing 'CSAR':
* checking DESCRIPTION meta-information ... OK
* cleaning src
* installing the package to re-build vignettes
* installing *source* package 'CSAR' ...
** libs
gcc -std=gnu99 -I/home/biocbuild/bbs-2.6-bioc/R/include -I/usr/local/include -fpic -g -O2 -c CSAR.c -o CSAR.o
gcc -std=gnu99 -shared -L/usr/local/lib64 -o CSAR.so CSAR.o -L/home/biocbuild/bbs-2.6-bioc/R/lib -lR
installing to /tmp/Rinst2808005329/CSAR/libs
** R
** data
** moving datasets to lazyload DB
** inst
** preparing package for lazy loading
** help
*** installing help indices
** building package indices ...
** testing if installed package can be loaded
* DONE (CSAR)
* creating vignettes ... OK
* cleaning src
* removing junk files
* checking for LF line-endings in source and make files
* checking for empty or unneeded directories
* building 'CSAR_1.0.0.tar.gz'