* checking for file 'iChip/DESCRIPTION' ... OK
* preparing 'iChip':
* checking DESCRIPTION meta-information ... OK
* cleaning src
* installing the package to re-build vignettes
* installing *source* package 'iChip' ...
** libs
making DLL ...
gcc -I"E:/biocbld/bbs-2.6-bioc/R/include" -O3 -Wall -std=gnu99 -c iChip.c -o iChip.o
iChip.c: In function 'iChip2':
iChip.c:24: warning: unused variable 'sdsignal'
iChip.c:24: warning: unused variable 'sdnoise'
iChip.c: In function 'iChip1':
iChip.c:188: warning: unused variable 'j'
gcc -shared -s -static-libgcc -o iChip.dll tmp.def iChip.o -LE:/biocbld/bbs-2.6-bioc/R/bin -lR
installing to E:/biocbld/bbs-2.6-bioc/tmpdir/Rinst366819656/iChip/libs
... done
** R
** data
** moving datasets to lazyload DB
** demo
** inst
** preparing package for lazy loading
** help
*** installing help indices
** building package indices ...
** testing if installed package can be loaded
* DONE (iChip)
* creating vignettes ... OK
* cleaning src
* removing junk files
* checking for LF line-endings in source and make files
* checking for empty or unneeded directories
* building 'iChip_1.0.0.tar.gz'