iChip 1.0.0 Qianxing Mo
 | Snapshot Date: 2010-10-04 11:22:20 -0700 (Mon, 04 Oct 2010) |  | URL: https://hedgehog.fhcrc.org/bioconductor/branches/RELEASE_2_6/madman/Rpacks/iChip |  | Last Changed Rev: 46401 / Revision: 49923 |  | Last Changed Date: 2010-04-22 11:21:23 -0700 (Thu, 22 Apr 2010) |  
  | wilson1  | Linux (openSUSE 11.1) / x86_64  |  OK  |  OK  |  | 
| liverpool  | Windows Server 2003 R2 (32-bit) / x64  |  OK  |  OK  |  OK  | 
| gewurz  | Windows Server 2008 R2 Enterprise (64-bit) / x64  |  OK  |  OK  | [ OK ] | 
| pelham  | Mac OS X Leopard (10.5.8) / i386  |  OK  |  OK  |  OK  | 
* installing *source* package 'iChip' ...
** libs
  making DLL ...
x86_64-w64-mingw32-gcc -I"D:/biocbld/bbs-2.6-bioc/R/include"         -O2 -Wall  -std=gnu99 -c iChip.c -o iChip.o
iChip.c: In function 'iChip2':
iChip.c:24: warning: unused variable 'sdsignal'
iChip.c:24: warning: unused variable 'sdnoise'
iChip.c: In function 'iChip1':
iChip.c:188: warning: unused variable 'j'
x86_64-w64-mingw32-gcc -shared -s -static-libgcc -o iChip.dll tmp.def iChip.o -LD:/biocbld/bbs-2.6-bioc/R/bin -lR
installing to D:/biocbld/bbs-2.6-bioc/meat/iChip.buildbin-libdir/iChip/libs/x64
  ... done
** R
** data
**  moving datasets to lazyload DB
** demo
** inst
** preparing package for lazy loading
** help
*** installing help indices
** building package indices ...
** testing if installed package can be loaded
* MD5 sums
packaged installation of 'iChip' as iChip_1.0.0.zip
* DONE (iChip)