* checking for file 'hexbin/DESCRIPTION' ... OK
* preparing 'hexbin':
* checking DESCRIPTION meta-information ... OK
* cleaning src
* installing the package to re-build vignettes
* installing *source* package 'hexbin' ...
** libs
gfortran -fpic -g -O -c hbin.f -o hbin.o
gfortran -fpic -g -O -c hcell.f -o hcell.o
gfortran -fpic -g -O -c herode.f -o herode.o
gfortran -fpic -g -O -c hsm.f -o hsm.o
gcc -std=gnu99 -shared -L/usr/local/lib64 -o hexbin.so hbin.o hcell.o herode.o hsm.o -lgfortran -lm -L/home/biocbuild/bbs-2.6-bioc/R/lib -lR
installing to /tmp/Rinst990467953/hexbin/libs
** R
** data
** inst
** preparing package for lazy loading
Creating a new generic function for "plot" in "hexbin"
Creating a new generic function for "summary" in "hexbin"
** help
*** installing help indices
** building package indices ...
** testing if installed package can be loaded
* DONE (hexbin)
* creating vignettes ... OK
* cleaning src
* removing junk files
* checking for LF line-endings in source and make files
* checking for empty or unneeded directories
* building 'hexbin_1.22.0.tar.gz'