* checking for file 'hexbin/DESCRIPTION' ... OK
* preparing 'hexbin':
* checking DESCRIPTION meta-information ... OK
* cleaning src
* installing the package to re-build vignettes
* installing *source* package 'hexbin' ...
** libs
making DLL ...
x86_64-w64-mingw32-gfortran -O2 -c hbin.f -o hbin.o
x86_64-w64-mingw32-gfortran -O2 -c hcell.f -o hcell.o
x86_64-w64-mingw32-gfortran -O2 -c herode.f -o herode.o
x86_64-w64-mingw32-gfortran -O2 -c hsm.f -o hsm.o
x86_64-w64-mingw32-gcc -shared -s -static-libgcc -o hexbin.dll tmp.def hbin.o hcell.o herode.o hsm.o -lgfortran -LD:/biocbld/bbs-2.6-bioc/R/bin -lR
installing to D:/biocbld/bbs-2.6-bioc/tmpdir/Rinst365208428/hexbin/libs/x64
... done
** R
** data
** inst
** preparing package for lazy loading
Creating a new generic function for "plot" in "hexbin"
Creating a new generic function for "summary" in "hexbin"
** help
*** installing help indices
** building package indices ...
** testing if installed package can be loaded
* DONE (hexbin)
* creating vignettes ... OK
* cleaning src
* removing junk files
* checking for LF line-endings in source and make files
* checking for empty or unneeded directories
* building 'hexbin_1.22.0.tar.gz'