* checking for file 'SIM/DESCRIPTION' ... OK
* preparing 'SIM':
* checking DESCRIPTION meta-information ... OK
* cleaning src
* installing the package to re-build vignettes
* installing *source* package 'SIM' ...
** libs
gcc -std=gnu99 -I/home/biocbuild/bbs-2.6-bioc/R/include -I/usr/local/include -fpic -g -O2 -c withinWindow.c -o withinWindow.o
gcc -std=gnu99 -shared -L/usr/local/lib64 -o SIM.so withinWindow.o -L/home/biocbuild/bbs-2.6-bioc/R/lib -lR
installing to /tmp/Rinst3116714769/SIM/libs
** R
** data
** inst
** preparing package for lazy loading
Loading required package: SparseM
Package SparseM (0.86) loaded.
To cite, see citation("SparseM")
Attaching package: 'SparseM'
The following object(s) are masked from 'package:base':
backsolve
** help
*** installing help indices
** building package indices ...
** testing if installed package can be loaded
* DONE (SIM)
* creating vignettes ... OK
* cleaning src
* removing junk files
* checking for LF line-endings in source and make files
* checking for empty or unneeded directories
* building 'SIM_1.16.0.tar.gz'