| SIM 1.16.0 Maarten van Iterson
 
 | Snapshot Date: 2010-10-04 11:22:20 -0700 (Mon, 04 Oct 2010) |  | URL: https://hedgehog.fhcrc.org/bioconductor/branches/RELEASE_2_6/madman/Rpacks/SIM |  | Last Changed Rev: 46401 / Revision: 49923 |  | Last Changed Date: 2010-04-22 11:21:23 -0700 (Thu, 22 Apr 2010) | 
 | wilson1 | Linux (openSUSE 11.1) / x86_64 | OK | OK |  | 
| liverpool | Windows Server 2003 R2 (32-bit) / x64 | OK | OK | [ OK ] | 
| gewurz | Windows Server 2008 R2 Enterprise (64-bit) / x64 | N O T   S U P P O R T E D | 
| pelham | Mac OS X Leopard (10.5.8) / i386 | OK | OK | OK | 
* installing *source* package 'SIM' ...
** libs
  making DLL ...
gcc -I"E:/biocbld/bbs-2.6-bioc/R/include"         -O3 -Wall  -std=gnu99 -c withinWindow.c -o withinWindow.o
gcc -shared -s -static-libgcc -o SIM.dll tmp.def withinWindow.o -LE:/biocbld/bbs-2.6-bioc/R/bin -lR
installing to E:/biocbld/bbs-2.6-bioc/meat/SIM.buildbin-libdir/SIM/libs
  ... done
** R
** data
** inst
** preparing package for lazy loading
Loading required package: SparseM
Package SparseM (0.86) loaded.
	   To cite, see citation("SparseM")
Attaching package: 'SparseM'
The following object(s) are masked from 'package:base':
    backsolve
Loading required package: Biobase
Welcome to Bioconductor
  Vignettes contain introductory material. To view, type
  'openVignette()'. To cite Bioconductor, see
  'citation("Biobase")' and for packages 'citation(pkgname)'.
** help
*** installing help indices
** building package indices ...
** testing if installed package can be loaded
* MD5 sums
packaged installation of 'SIM' as SIM_1.16.0.zip
* DONE (SIM)