ChIPpeakAnno 1.2.15 Lihua Julie Zhu
Snapshot Date: 2010-04-02 23:28:25 -0700 (Fri, 02 Apr 2010) | URL: https://hedgehog.fhcrc.org/bioconductor/branches/RELEASE_2_5/madman/Rpacks/ChIPpeakAnno | Last Changed Rev: 45620 / Revision: 45705 | Last Changed Date: 2010-03-31 12:08:34 -0700 (Wed, 31 Mar 2010) |
| wilson2 | Linux (openSUSE 11.1) / x86_64 | [ OK ] | OK | |
liverpool | Windows Server 2003 R2 (32-bit) / x64 | OK | OK | OK |
pitt | Mac OS X Tiger (10.4.11) / i386 | OK | OK | OK |
pelham | Mac OS X Leopard (10.5.8) / i386 | OK | OK | OK |
* checking for file 'ChIPpeakAnno/DESCRIPTION' ... OK
* preparing 'ChIPpeakAnno':
* checking DESCRIPTION meta-information ... OK
* installing the package to re-build vignettes
* installing *source* package ‘ChIPpeakAnno’ ...
** R
** data
** inst
** help
*** installing help indices
** building package indices ...
* DONE (ChIPpeakAnno)
* creating vignettes ... OK
* removing junk files
* checking for LF line-endings in source and make files
* checking for empty or unneeded directories
* building 'ChIPpeakAnno_1.2.15.tar.gz'