| Back to the "Multiple platform build/check report" | A B [C] D E F G H I J K L M N O P Q R S T U V W X Y Z |
| Package 69/353 | Hostname | OS / Arch | BUILD | CHECK | BUILD BIN | ||||
| ChIPpeakAnno 1.2.15 Lihua Julie Zhu
| wilson2 | Linux (openSUSE 11.1) / x86_64 | OK | OK | |||||
| liverpool | Windows Server 2003 R2 (32-bit) / x64 | OK | OK | OK | |||||
| pitt | Mac OS X Tiger (10.4.11) / i386 | OK | OK | [ OK ] | |||||
| pelham | Mac OS X Leopard (10.5.8) / i386 | OK | OK | OK |
| Package: ChIPpeakAnno |
| Version: 1.2.15 |
| Command: /Users/biocbuild/BBS/utils/build-universal.sh ChIPpeakAnno_1.2.15.tar.gz /Library/Frameworks/R.framework/Versions/2.10/Resources/bin/R ChIPpeakAnno.buildbin-libdir |
| StartedAt: 2010-04-03 07:42:11 -0700 (Sat, 03 Apr 2010) |
| EndedAt: 2010-04-03 07:42:15 -0700 (Sat, 03 Apr 2010) |
| EllapsedTime: 4.0 seconds |
| RetCode: 0 |
| Status: OK |
| PackageFile: ChIPpeakAnno_1.2.15.tgz |
| PackageFileSize: 4.502 MiB |
INSTALLATION WITH 'R CMD INSTALL --preclean --library=ChIPpeakAnno.buildbin-libdir ChIPpeakAnno_1.2.15.tar.gz'
* installing *source* package ‘ChIPpeakAnno’ ...
** R
** data
** inst
** help
*** installing help indices
** building package indices ...
* DONE (ChIPpeakAnno)