| Back to the "Multiple platform build/check report" | A B C D [E] F G H I J K L M N O P Q R S T U V W X Y Z | 
| Package 90/319 | Hostname | OS / Arch | BUILD | CHECK | BUILD BIN | |||||
| exonmap 2.2.0 Crispin Miller 
 | wilson1 | Linux (openSUSE 11.1) / x86_64 | OK | OK | ||||||
| liverpool | Windows Server 2003 R2 (32-bit) / x64 | OK | OK | OK | ||||||
| pitt | Mac OS X Tiger (10.4.11) / i386 | OK | OK | OK | ||||||
| pelham | Mac OS X Leopard (10.5.8) / i386 | [ OK ] | OK | OK | 
| Package: exonmap | 
| Version: 2.2.0 | 
| Command: /Library/Frameworks/R.framework/Versions/2.9/Resources/bin/R CMD build exonmap | 
| StartedAt: 2009-10-20 15:54:50 -0700 (Tue, 20 Oct 2009) | 
| EndedAt: 2009-10-20 15:54:52 -0700 (Tue, 20 Oct 2009) | 
| EllapsedTime: 1.8 seconds | 
| RetCode: 0 | 
| Status: OK | 
| PackageFile: exonmap_2.2.0.tar.gz | 
| PackageFileSize: 257.7 KiB | 
* checking for file 'exonmap/DESCRIPTION' ... OK * preparing 'exonmap': * checking DESCRIPTION meta-information ... OK * removing junk files * checking for LF line-endings in source and make files * checking for empty or unneeded directories * building 'exonmap_2.2.0.tar.gz'