exonmap 2.2.0 Crispin Miller
 | Bioconductor Changelog |  | Snapshot Date: 2009-10-20 11:27:33 -0700 (Tue, 20 Oct 2009) |  | URL: https://hedgehog.fhcrc.org/bioconductor/branches/RELEASE_2_4/madman/Rpacks/exonmap |  | Last Changed Rev: 39013 / Revision: 42512 |  | Last Changed Date: 2009-04-20 16:24:12 -0700 (Mon, 20 Apr 2009) |  
  | wilson1  | Linux (openSUSE 11.1) / x86_64  |  OK  |  OK  |  | 
| liverpool  | Windows Server 2003 R2 (32-bit) / x64  |  OK  |  OK  |  OK  | 
| pitt  | Mac OS X Tiger (10.4.11) / i386  |  OK  |  OK  |  OK  | 
| pelham  | Mac OS X Leopard (10.5.8) / i386  |  OK  |  OK  | [ OK ] | 
                INSTALLATION WITH 'R CMD INSTALL --preclean --library=exonmap.buildbin-libdir exonmap_2.2.0.tar.gz'
* Installing *source* package ‘exonmap’ ...
** R
** data
** inst
** preparing package for lazy loading
Loading required package: Biobase
Welcome to Bioconductor
  Vignettes contain introductory material. To view, type
  'openVignette()'. To cite Bioconductor, see
  'citation("Biobase")' and for packages 'citation(pkgname)'.
Loading required package: DBI
** help
*** installing help indices
 >>> Building/Updating help pages for package 'exonmap'
     Formats: text html latex example 
  PC-class                          text    html    latex   example
  array.subset                      text    html    latex   example
  db.local.info                     text    html    latex   example
  details                           text    html    latex   example
  filters                           text    html    latex   example
  gene.graph                        text    html    latex   example
  gene.legend                       text    html    latex   example
  gene.strip                        text    html    latex   example
  group.indices                     text    html    latex   example
  mappings                          text    html    latex   example
  pc                                text    html    latex   example
  plotGene                          text    html    latex   example
  probes.in.range                   text    html    latex   example
  probeset.stats                    text    html    latex   example
  read.exon                         text    html    latex   example
  si                                text    html    latex   example
  x.rma                             text    html    latex
  xmapConnect                       text    html    latex   example
  xmapGene                          text    html    latex   example
** building package indices ...
* DONE (exonmap)