| HELP 1.2.0 Reid F. Thompson
 
 | Bioconductor Changelog |  | Snapshot Date: 2009-10-20 11:27:33 -0700 (Tue, 20 Oct 2009) |  | URL: https://hedgehog.fhcrc.org/bioconductor/branches/RELEASE_2_4/madman/Rpacks/HELP |  | Last Changed Rev: 39013 / Revision: 42512 |  | Last Changed Date: 2009-04-20 16:24:12 -0700 (Mon, 20 Apr 2009) | 
 | wilson1 | Linux (openSUSE 11.1) / x86_64 | [ OK ] | OK |  | 
| liverpool | Windows Server 2003 R2 (32-bit) / x64 | OK | OK | OK | 
| pitt | Mac OS X Tiger (10.4.11) / i386 | OK | OK | OK | 
| pelham | Mac OS X Leopard (10.5.8) / i386 | OK | OK | OK | 
* checking for file 'HELP/DESCRIPTION' ... OK
* preparing 'HELP':
* checking DESCRIPTION meta-information ... OK
* installing the package to re-build vignettes
* Installing *source* package 'HELP' ...
** R
** data
** demo
** inst
** preparing package for lazy loading
Welcome to Bioconductor
  Vignettes contain introductory material. To view, type
  'openVignette()'. To cite Bioconductor, see
  'citation("Biobase")' and for packages 'citation(pkgname)'.
** help
*** installing help indices
 >>> Building/Updating help pages for package 'HELP'
     Formats: text html latex example 
  base.stacking.thermodynamics      text    html    latex   example
  calcGC-methods                    text    html    latex
  calcGC                            text    html    latex   example
  calcPrototype-methods             text    html    latex
  calcPrototype                     text    html    latex   example
  calcTm-methods                    text    html    latex
  calcTm                            text    html    latex   example
  combineData-methods               text    html    latex
  combineData                       text    html    latex   example
  createWiggle-methods              text    html    latex
  createWiggle                      text    html    latex   example
  exprs2-methods                    text    html    latex
  exprs2                            text    html    latex   example
  fuzzyMatches-methods              text    html    latex
  fuzzyMatches                      text    html    latex   example
  getFeatures-methods               text    html    latex
  getFeatures                       text    html    latex   example
  getSamples-methods                text    html    latex
  getSamples                        text    html    latex   example
  plotBins-methods                  text    html    latex
  plotBins                          text    html    latex   example
  plotChip-methods                  text    html    latex
  plotChip                          text    html    latex   example
  plotFeature-methods               text    html    latex
  plotFeature                       text    html    latex   example
  plotPairs-methods                 text    html    latex
  plotPairs                         text    html    latex   example
  quantileNormalize-methods         text    html    latex
  quantileNormalize                 text    html    latex   example
  readDesign-methods                text    html    latex
  readDesign                        text    html    latex   example
  readPairs-methods                 text    html    latex
  readPairs                         text    html    latex   example
  readSampleKey                     text    html    latex   example
** building package indices ...
* DONE (HELP)
* creating vignettes ... OK
* removing junk files
* checking for LF line-endings in source and make files
* checking for empty or unneeded directories
* building 'HELP_1.2.0.tar.gz'