| HELP 1.2.0 Reid F. Thompson
 
 | Bioconductor Changelog |  | Snapshot Date: 2009-10-20 11:27:33 -0700 (Tue, 20 Oct 2009) |  | URL: https://hedgehog.fhcrc.org/bioconductor/branches/RELEASE_2_4/madman/Rpacks/HELP |  | Last Changed Rev: 39013 / Revision: 42512 |  | Last Changed Date: 2009-04-20 16:24:12 -0700 (Mon, 20 Apr 2009) | 
 | wilson1 | Linux (openSUSE 11.1) / x86_64 | OK | OK |  | 
| liverpool | Windows Server 2003 R2 (32-bit) / x64 | OK | OK | [ OK ] | 
| pitt | Mac OS X Tiger (10.4.11) / i386 | OK | OK | OK | 
| pelham | Mac OS X Leopard (10.5.8) / i386 | OK | OK | OK | 
* Installing *source* package 'HELP' ...
  Using auto-selected zip options '--use-zip-help'
** R
** data
** demo
** inst
** preparing package for lazy loading
Welcome to Bioconductor
  Vignettes contain introductory material. To view, type
  'openVignette()'. To cite Bioconductor, see
  'citation("Biobase")' and for packages 'citation(pkgname)'.
** help
*** installing help indices
 >>> Building/Updating help pages for package 'HELP'
     Formats: text html latex example chm 
  base.stacking.thermodynamics      text    html    latex   example chm
  calcGC-methods                    text    html    latex           chm
  calcGC                            text    html    latex   example chm
  calcPrototype-methods             text    html    latex           chm
  calcPrototype                     text    html    latex   example chm
  calcTm-methods                    text    html    latex           chm
  calcTm                            text    html    latex   example chm
  combineData-methods               text    html    latex           chm
  combineData                       text    html    latex   example chm
  createWiggle-methods              text    html    latex           chm
  createWiggle                      text    html    latex   example chm
  exprs2-methods                    text    html    latex           chm
  exprs2                            text    html    latex   example chm
  fuzzyMatches-methods              text    html    latex           chm
  fuzzyMatches                      text    html    latex   example chm
  getFeatures-methods               text    html    latex           chm
  getFeatures                       text    html    latex   example chm
  getSamples-methods                text    html    latex           chm
  getSamples                        text    html    latex   example chm
  plotBins-methods                  text    html    latex           chm
  plotBins                          text    html    latex   example chm
  plotChip-methods                  text    html    latex           chm
  plotChip                          text    html    latex   example chm
  plotFeature-methods               text    html    latex           chm
  plotFeature                       text    html    latex   example chm
  plotPairs-methods                 text    html    latex           chm
  plotPairs                         text    html    latex   example chm
  quantileNormalize-methods         text    html    latex           chm
  quantileNormalize                 text    html    latex   example chm
  readDesign-methods                text    html    latex           chm
  readDesign                        text    html    latex   example chm
  readPairs-methods                 text    html    latex           chm
  readPairs                         text    html    latex   example chm
  readSampleKey                     text    html    latex   example chm
Microsoft HTML Help Compiler 4.74.8702
Compiling e:\biocbld\bbs-2.4-bioc\tmpdir\RtmpuNx8ie\R.INSTALL678418be\HELP\chm\HELP.chm
Compile time: 0 minutes, 3 seconds
35	Topics
216	Local links
1	Internet link
1	Graphic
Created e:\biocbld\bbs-2.4-bioc\tmpdir\RtmpuNx8ie\R.INSTALL678418be\HELP\chm\HELP.chm, 57,245 bytes
Compression decreased file by 111,087 bytes.
** building package indices ...
** MD5 sums
packaged installation of 'HELP' as HELP_1.2.0.zip
* DONE (HELP)