| DynDoc 1.22.0 Biocore Team c/o BioC user list
 
 | Bioconductor Changelog |  | Snapshot Date: 2009-10-20 11:27:33 -0700 (Tue, 20 Oct 2009) |  | URL: https://hedgehog.fhcrc.org/bioconductor/branches/RELEASE_2_4/madman/Rpacks/DynDoc |  | Last Changed Rev: 39013 / Revision: 42512 |  | Last Changed Date: 2009-04-20 16:24:12 -0700 (Mon, 20 Apr 2009) | 
 | wilson1 | Linux (openSUSE 11.1) / x86_64 | OK | OK |  | 
| liverpool | Windows Server 2003 R2 (32-bit) / x64 | OK | OK | OK | 
| pitt | Mac OS X Tiger (10.4.11) / i386 | OK | OK | [ OK ] | 
| pelham | Mac OS X Leopard (10.5.8) / i386 | OK | OK | OK | 
                INSTALLATION WITH 'R CMD INSTALL --preclean --library=DynDoc.buildbin-libdir DynDoc_1.22.0.tar.gz'
* Installing *source* package ‘DynDoc’ ...
** R
** preparing package for lazy loading
Creating a new generic function for "summary" in "DynDoc"
** help
*** installing help indices
 >>> Building/Updating help pages for package 'DynDoc'
     Formats: text html latex example 
  DynDoc-class                      text    html    latex
  SweaveOptions-class               text    html    latex
  Vignette-class                    text    html    latex
  chunkList-class                   text    html    latex   example
  codeChunk-class                   text    html    latex   example
  getPkgVigList                     text    html    latex   example
  getVignette                       text    html    latex
  getVignetteCode                   text    html    latex
  getVignetteHeader                 text    html    latex
  tangleToR                         text    html    latex   example
  vignetteCode-class                text    html    latex
** building package indices ...
* DONE (DynDoc)