DynDoc 1.22.0 Biocore Team c/o BioC user list
 | Bioconductor Changelog |  | Snapshot Date: 2009-10-20 11:27:33 -0700 (Tue, 20 Oct 2009) |  | URL: https://hedgehog.fhcrc.org/bioconductor/branches/RELEASE_2_4/madman/Rpacks/DynDoc |  | Last Changed Rev: 39013 / Revision: 42512 |  | Last Changed Date: 2009-04-20 16:24:12 -0700 (Mon, 20 Apr 2009) |  
  | wilson1  | Linux (openSUSE 11.1) / x86_64  |  OK  |  OK  |  | 
| liverpool  | Windows Server 2003 R2 (32-bit) / x64  |  OK  |  OK  | [ OK ] | 
| pitt  | Mac OS X Tiger (10.4.11) / i386  |  OK  |  OK  |  OK  | 
| pelham  | Mac OS X Leopard (10.5.8) / i386  |  OK  |  OK  |  OK  | 
* Installing *source* package 'DynDoc' ...
  Using auto-selected zip options ''
** R
** preparing package for lazy loading
Creating a new generic function for "summary" in "DynDoc"
** help
*** installing help indices
 >>> Building/Updating help pages for package 'DynDoc'
     Formats: text html latex example chm 
  DynDoc-class                      text    html    latex           chm
  SweaveOptions-class               text    html    latex           chm
  Vignette-class                    text    html    latex           chm
  chunkList-class                   text    html    latex   example chm
  codeChunk-class                   text    html    latex   example chm
  getPkgVigList                     text    html    latex   example chm
  getVignette                       text    html    latex           chm
  getVignetteCode                   text    html    latex           chm
  getVignetteHeader                 text    html    latex           chm
  tangleToR                         text    html    latex   example chm
  vignetteCode-class                text    html    latex           chm
Microsoft HTML Help Compiler 4.74.8702
Compiling e:\biocbld\bbs-2.4-bioc\tmpdir\RtmpYQqKwP\R.INSTALL678418be\DynDoc\chm\DynDoc.chm
Compile time: 0 minutes, 1 second
12	Topics
121	Local links
0	Internet links
1	Graphic
Created e:\biocbld\bbs-2.4-bioc\tmpdir\RtmpYQqKwP\R.INSTALL678418be\DynDoc\chm\DynDoc.chm, 30,307 bytes
Compression decreased file by 40,120 bytes.
** building package indices ...
** MD5 sums
packaged installation of 'DynDoc' as DynDoc_1.22.0.zip
* DONE (DynDoc)