ABarray 1.12.0 Yongming Andrew Sun
 | Bioconductor Changelog |  | Snapshot Date: 2009-10-20 11:27:33 -0700 (Tue, 20 Oct 2009) |  | URL: https://hedgehog.fhcrc.org/bioconductor/branches/RELEASE_2_4/madman/Rpacks/ABarray |  | Last Changed Rev: 39013 / Revision: 42512 |  | Last Changed Date: 2009-04-20 16:24:12 -0700 (Mon, 20 Apr 2009) |  
  | wilson1  | Linux (openSUSE 11.1) / x86_64  | [ OK ] |  OK  |  | 
| liverpool  | Windows Server 2003 R2 (32-bit) / x64  |  OK  |  OK  |  OK  | 
| pitt  | Mac OS X Tiger (10.4.11) / i386  |  OK  |  OK  |  OK  | 
| pelham  | Mac OS X Leopard (10.5.8) / i386  |  OK  |  OK  |  OK  | 
* checking for file 'ABarray/DESCRIPTION' ... OK
* preparing 'ABarray':
* checking DESCRIPTION meta-information ... OK
* installing the package to re-build vignettes
* Installing *source* package 'ABarray' ...
** R
** inst
** preparing package for lazy loading
Welcome to Bioconductor
  Vignettes contain introductory material. To view, type
  'openVignette()'. To cite Bioconductor, see
  'citation("Biobase")' and for packages 'citation(pkgname)'.
Loading Tcl/Tk interface ... done
** help
*** installing help indices
 >>> Building/Updating help pages for package 'ABarray'
     Formats: text html latex example 
  ABarray                           text    html    latex   example
Note: removing empty section \arguments in file 'ABarrayGUI.Rd'
  ABarrayGUI                        text    html    latex   example
Note: removing empty section \examples in file 'calcsn.Rd'
  calcsn                            text    html    latex
  concord                           text    html    latex   example
Note: removing empty section \examples in file 'cvv.Rd'
  cvv                               text    html    latex
Note: removing empty section \examples in file 'cvvPlot.Rd'
  cvvPlot                           text    html    latex
  doANOVA                           text    html    latex   example
  doLPE                             text    html    latex   example
  doPlotEset                        text    html    latex   example
  doPlotFCT                         text    html    latex   example
Note: removing empty section \examples in file 'doVennDiagram.Rd'
  doVennDiagram                     text    html    latex
  drawVennDiagram                   text    html    latex   example
Note: removing empty section \examples in file 'getMemberEset.Rd'
  getMemberEset                     text    html    latex
Note: removing empty section \examples in file 'getPantherMap.Rd'
  getPantherMap                     text    html    latex
Note: removing empty section \examples in file 'hclusterPlot.Rd'
  hclusterPlot                      text    html    latex
  icpPlot                           text    html    latex   example
  imputeFlag                        text    html    latex   example
  lpe.fdr.BH                        text    html    latex   example
  mamaplot                          text    html    latex   example
Note: removing empty section \examples in file 'matrixPlot.Rd'
  matrixPlot                        text    html    latex
  mvaPair2                          text    html    latex   example
  panel.cor                         text    html    latex   example
  panel.scatter                     text    html    latex   example
Note: removing empty section \examples in file 'qnNormalize.Rd'
  qnNormalize                       text    html    latex
  rgcolorsfunc                      text    html    latex   example
Note: removing empty section \examples in file 'savejpg.Rd'
  savejpg                           text    html    latex
  scaleColorBar                     text    html    latex   example
Note: removing empty section \examples in file 'snSummary.Rd'
  snSummary                         text    html    latex
** building package indices ...
* DONE (ABarray)
* creating vignettes ... OK
* removing junk files
* checking for LF line-endings in source and make files
* checking for empty or unneeded directories
* building 'ABarray_1.12.0.tar.gz'