| ABarray 1.12.0 Yongming Andrew Sun
 
 | Bioconductor Changelog |  | Snapshot Date: 2009-10-20 11:27:33 -0700 (Tue, 20 Oct 2009) |  | URL: https://hedgehog.fhcrc.org/bioconductor/branches/RELEASE_2_4/madman/Rpacks/ABarray |  | Last Changed Rev: 39013 / Revision: 42512 |  | Last Changed Date: 2009-04-20 16:24:12 -0700 (Mon, 20 Apr 2009) | 
 | wilson1 | Linux (openSUSE 11.1) / x86_64 | OK | OK |  | 
| liverpool | Windows Server 2003 R2 (32-bit) / x64 | OK | OK | [ OK ] | 
| pitt | Mac OS X Tiger (10.4.11) / i386 | OK | OK | OK | 
| pelham | Mac OS X Leopard (10.5.8) / i386 | OK | OK | OK | 
* Installing *source* package 'ABarray' ...
  Using auto-selected zip options '--use-zip-help'
** R
** inst
** preparing package for lazy loading
Welcome to Bioconductor
  Vignettes contain introductory material. To view, type
  'openVignette()'. To cite Bioconductor, see
  'citation("Biobase")' and for packages 'citation(pkgname)'.
Loading Tcl/Tk interface ... done
** help
*** installing help indices
 >>> Building/Updating help pages for package 'ABarray'
     Formats: text html latex example chm 
  ABarray                           text    html    latex   example chm
Note: removing empty section \arguments in file 'ABarrayGUI.Rd'
Note: removing empty section \arguments in file 'ABarrayGUI.Rd'
  ABarrayGUI                        text    html    latex   example chm
Note: removing empty section \examples in file 'calcsn.Rd'
Note: removing empty section \examples in file 'calcsn.Rd'
  calcsn                            text    html    latex           chm
  concord                           text    html    latex   example chm
Note: removing empty section \examples in file 'cvv.Rd'
Note: removing empty section \examples in file 'cvv.Rd'
  cvv                               text    html    latex           chm
Note: removing empty section \examples in file 'cvvPlot.Rd'
Note: removing empty section \examples in file 'cvvPlot.Rd'
  cvvPlot                           text    html    latex           chm
  doANOVA                           text    html    latex   example chm
  doLPE                             text    html    latex   example chm
  doPlotEset                        text    html    latex   example chm
  doPlotFCT                         text    html    latex   example chm
Note: removing empty section \examples in file 'doVennDiagram.Rd'
Note: removing empty section \examples in file 'doVennDiagram.Rd'
  doVennDiagram                     text    html    latex           chm
  drawVennDiagram                   text    html    latex   example chm
Note: removing empty section \examples in file 'getMemberEset.Rd'
Note: removing empty section \examples in file 'getMemberEset.Rd'
  getMemberEset                     text    html    latex           chm
Note: removing empty section \examples in file 'getPantherMap.Rd'
Note: removing empty section \examples in file 'getPantherMap.Rd'
  getPantherMap                     text    html    latex           chm
Note: removing empty section \examples in file 'hclusterPlot.Rd'
Note: removing empty section \examples in file 'hclusterPlot.Rd'
  hclusterPlot                      text    html    latex           chm
  icpPlot                           text    html    latex   example chm
  imputeFlag                        text    html    latex   example chm
  lpe.fdr.BH                        text    html    latex   example chm
  mamaplot                          text    html    latex   example chm
Note: removing empty section \examples in file 'matrixPlot.Rd'
Note: removing empty section \examples in file 'matrixPlot.Rd'
  matrixPlot                        text    html    latex           chm
  mvaPair2                          text    html    latex   example chm
  panel.cor                         text    html    latex   example chm
  panel.scatter                     text    html    latex   example chm
Note: removing empty section \examples in file 'qnNormalize.Rd'
Note: removing empty section \examples in file 'qnNormalize.Rd'
  qnNormalize                       text    html    latex           chm
  rgcolorsfunc                      text    html    latex   example chm
Note: removing empty section \examples in file 'savejpg.Rd'
Note: removing empty section \examples in file 'savejpg.Rd'
  savejpg                           text    html    latex           chm
  scaleColorBar                     text    html    latex   example chm
Note: removing empty section \examples in file 'snSummary.Rd'
Note: removing empty section \examples in file 'snSummary.Rd'
  snSummary                         text    html    latex           chm
Microsoft HTML Help Compiler 4.74.8702
Compiling e:\biocbld\bbs-2.4-bioc\tmpdir\RtmpWvIT2s\R.INSTALL678418be\ABarray\chm\ABarray.chm
Compile time: 0 minutes, 2 seconds
29	Topics
58	Local links
0	Internet links
1	Graphic
Created e:\biocbld\bbs-2.4-bioc\tmpdir\RtmpWvIT2s\R.INSTALL678418be\ABarray\chm\ABarray.chm, 40,090 bytes
Compression decreased file by 33,044 bytes.
** building package indices ...
** MD5 sums
packaged installation of 'ABarray' as ABarray_1.12.0.zip
* DONE (ABarray)