| flowViz 1.6.2 Florian Hahne
 
 | Bioconductor Changelog |  | Snapshot Date: 2009-04-18 11:27:48 -0700 (Sat, 18 Apr 2009) |  | URL: https://hedgehog.fhcrc.org/bioconductor/branches/RELEASE_2_3/madman/Rpacks/flowViz |  | Last Changed Rev: 36916 / Revision: 38965 |  | Last Changed Date: 2009-01-22 15:56:34 -0800 (Thu, 22 Jan 2009) | 
 | wilson2 | Linux (openSUSE 11.1) / x86_64 | OK | [ OK ] |  | 
| liverpool | Windows Server 2003 R2 (32-bit) / x64 | OK | OK | OK | 
| pitt | Mac OS X Tiger (10.4.11) / i386 | OK | OK | OK | 
| pelham | Mac OS X Leopard (10.5.6) / i386 | OK | OK | OK | 
* checking for working pdflatex ... OK
* using log directory '/loc/home/biocbuild/bbs-2.3-bioc/meat/flowViz.Rcheck'
* using R version 2.8.1 (2008-12-22)
* using session charset: UTF-8
* checking for file 'flowViz/DESCRIPTION' ... OK
* checking extension type ... Package
* this is package 'flowViz' version '1.6.2'
* checking package name space information ... OK
* checking package dependencies ... OK
* checking if this is a source package ... OK
* checking whether package 'flowViz' can be installed ... OK
* checking package directory ... OK
* checking for portable file names ... OK
* checking for sufficient/correct file permissions ... OK
* checking DESCRIPTION meta-information ... OK
* checking top-level files ... OK
* checking index information ... OK
* checking package subdirectories ... OK
* checking R files for non-ASCII characters ... OK
* checking R files for syntax errors ... OK
* checking whether the package can be loaded ... OK
* checking whether the package can be loaded with stated dependencies ... OK
* checking whether the name space can be loaded with stated dependencies ... OK
* checking for unstated dependencies in R code ... OK
* checking S3 generic/method consistency ... OK
* checking replacement functions ... OK
* checking foreign function calls ... OK
* checking R code for possible problems ... OK
* checking Rd files ... OK
* checking Rd cross-references ... OK
* checking for missing documentation entries ... OK
* checking for code/documentation mismatches ... OK
* checking Rd \usage sections ... OK
* checking line endings in C/C++/Fortran sources/headers ... OK
* checking line endings in Makefiles ... OK
* checking for portable use of $BLAS_LIBS ... OK
* creating flowViz-Ex.R ... OK
* checking examples ... OK
* checking package vignettes in 'inst/doc' ... OK
* creating flowViz-manual.tex ... OK
* checking flowViz-manual.tex using pdflatex ... OK
 
* Installing *source* package 'flowViz' ...
** libs
gcc -std=gnu99 -I/home/biocbuild/bbs-2.3-bioc/R/include  -I/usr/local/include    -fpic  -g -O2 -Wall -c hexbin.c -o hexbin.o
gcc -std=gnu99 -I/home/biocbuild/bbs-2.3-bioc/R/include  -I/usr/local/include    -fpic  -g -O2 -Wall -c init.c -o init.o
gcc -std=gnu99 -shared -L/usr/local/lib64 -o flowViz.so hexbin.o init.o   -L/home/biocbuild/bbs-2.3-bioc/R/lib -lR
** R
** inst
** preparing package for lazy loading
Loading required package: flowCore
Loading required package: rrcov
Loading required package: robustbase
Loading required package: pcaPP
Loading required package: mvtnorm
pcaPP 0.1-1 loaded
Scalable Robust Estimators with High Breakdown Point (version 0.5-01)
Loading required package: feature
Loading required package: KernSmooth
KernSmooth 2.22 installed
Copyright M. P. Wand 1997
Loading required package: rpanel
Loading required package: tcltk
Loading Tcl/Tk interface ... done
Package `rpanel', version 1.0-5
type help(rpanel) for summary information
Loading required package: ks
Loading required package: Biobase
Loading required package: tools
Welcome to Bioconductor
  Vignettes contain introductory material. To view, type
  'openVignette()'. To cite Bioconductor, see
  'citation("Biobase")' and for packages 'citation(pkgname)'.
Attaching package: 'flowCore'
	The following object(s) are masked from package:stats :
	 alias,
	 filter 
Loading required package: RColorBrewer
Loading required package: lattice
Loading required package: latticeExtra
** help
 >>> Building/Updating help pages for package 'flowViz'
     Formats: text html latex example 
  addName-methods                   text    html    latex
  contour-methods                   text    html    latex   example
  densityplot                       text    html    latex   example
  ecdfplot                          text    html    latex   example
  flowPlot                          text    html    latex   example
  flowViz-package                   text    html    latex   example
  flowViz.par.get                   text    html    latex   example
  hexbin                            text    html    latex   example
  latticeMethods-flowSet            text    html    latex   example
  lines-methods                     text    html    latex
  lpoints-methods                   text    html    latex
  lpolygon-methods                  text    html    latex
  plot-methods                      text    html    latex
  points-methods                    text    html    latex
  polygon-methods                   text    html    latex
  splom                             text    html    latex   example
  timeLinePlot-methods              text    html    latex   example
  xyplot                            text    html    latex   example
** building package indices ...
* DONE (flowViz)