| flowViz 1.6.2 Florian Hahne
 
 | Bioconductor Changelog |  | Snapshot Date: 2009-04-18 11:27:48 -0700 (Sat, 18 Apr 2009) |  | URL: https://hedgehog.fhcrc.org/bioconductor/branches/RELEASE_2_3/madman/Rpacks/flowViz |  | Last Changed Rev: 36916 / Revision: 38965 |  | Last Changed Date: 2009-01-22 15:56:34 -0800 (Thu, 22 Jan 2009) | 
 | wilson2 | Linux (openSUSE 11.1) / x86_64 | OK | OK |  | 
| liverpool | Windows Server 2003 R2 (32-bit) / x64 | [ OK ] | OK | OK | 
| pitt | Mac OS X Tiger (10.4.11) / i386 | OK | OK | OK | 
| pelham | Mac OS X Leopard (10.5.6) / i386 | OK | OK | OK | 
* checking for file 'flowViz/DESCRIPTION' ... OK
* preparing 'flowViz':
* checking DESCRIPTION meta-information ... OK
* cleaning src
* installing the package to re-build vignettes
installing R.css in E:/biocbld/bbs-2.3-bioc/tmpdir/Rinst283221447
---------- Making package flowViz ------------
  adding build stamp to DESCRIPTION
  installing NAMESPACE file and metadata
  making DLL ...
making hexbin.d from hexbin.c
making init.d from init.c
gcc  -std=gnu99  -Ie:/biocbld/bbs-2.3-bioc/R/include     -O3 -Wall  -c hexbin.c -o hexbin.o
gcc  -std=gnu99  -Ie:/biocbld/bbs-2.3-bioc/R/include     -O3 -Wall  -c init.c -o init.o
windres --preprocessor="gcc -E -xc -DRC_INVOKED" -I e:/biocbld/bbs-2.3-bioc/R/include  -i flowViz_res.rc -o flowViz_res.o
gcc  -std=gnu99  -shared -s  -o flowViz.dll flowViz.def hexbin.o init.o flowViz_res.o  -Le:/biocbld/bbs-2.3-bioc/R/bin    -lR
  ... DLL made
  installing DLL
  installing R files
  installing inst files
  preparing package flowViz for lazy loading
Loading required package: flowCore
Loading required package: rrcov
Loading required package: robustbase
Loading required package: pcaPP
Loading required package: mvtnorm
Loading required package: feature
Loading required package: KernSmooth
KernSmooth 2.22 installed
Copyright M. P. Wand 1997
Loading required package: rpanel
Loading required package: tcltk
Loading Tcl/Tk interface ... done
Loading required package: ks
Loading required package: Biobase
Loading required package: tools
Welcome to Bioconductor
  Vignettes contain introductory material. To view, type
  'openVignette()'. To cite Bioconductor, see
  'citation("Biobase")' and for packages 'citation(pkgname)'.
Attaching package: 'flowCore'
	The following object(s) are masked from package:stats :
	 alias,
	 filter 
Loading required package: RColorBrewer
Loading required package: lattice
Loading required package: latticeExtra
  installing man source files
  installing indices
  installing help
 >>> Building/Updating help pages for package 'flowViz'
     Formats: text html latex example chm 
  addName-methods                   text    html    latex           chm
  contour-methods                   text    html    latex   example chm
  densityplot                       text    html    latex   example chm
  ecdfplot                          text    html    latex   example chm
  flowPlot                          text    html    latex   example chm
  flowViz-package                   text    html    latex   example chm
  flowViz.par.get                   text    html    latex   example chm
  hexbin                            text    html    latex   example chm
  latticeMethods-flowSet            text    html    latex   example chm
  lines-methods                     text    html    latex           chm
  lpoints-methods                   text    html    latex           chm
  lpolygon-methods                  text    html    latex           chm
  plot-methods                      text    html    latex           chm
  points-methods                    text    html    latex           chm
  polygon-methods                   text    html    latex           chm
  splom                             text    html    latex   example chm
  timeLinePlot-methods              text    html    latex   example chm
  xyplot                            text    html    latex   example chm
Microsoft HTML Help Compiler 4.74.8702
Compiling e:\biocbld\bbs-2.3-bioc\meat\flowViz\chm\flowViz.chm
Compile time: 0 minutes, 0 seconds
19	Topics
218	Local links
0	Internet links
1	Graphic
Created e:\biocbld\bbs-2.3-bioc\meat\flowViz\chm\flowViz.chm, 62,912 bytes
Compression decreased file by 127,134 bytes.
  adding MD5 sums
* DONE (flowViz)
* creating vignettes ... OK
* cleaning src
* removing junk files
* checking for LF line-endings in source and make files
* checking for empty or unneeded directories
* building 'flowViz_1.6.2.tar.gz'