| edd 1.20.0 Vince Carey
 
 | Bioconductor Changelog |  | Snapshot Date: 2009-04-18 11:27:48 -0700 (Sat, 18 Apr 2009) |  | URL: https://hedgehog.fhcrc.org/bioconductor/branches/RELEASE_2_3/madman/Rpacks/edd |  | Last Changed Rev: 34811 / Revision: 38965 |  | Last Changed Date: 2008-10-21 15:32:58 -0700 (Tue, 21 Oct 2008) | 
 | wilson2 | Linux (openSUSE 11.1) / x86_64 | OK | OK |  | 
| liverpool | Windows Server 2003 R2 (32-bit) / x64 | OK | OK | OK | 
| pitt | Mac OS X Tiger (10.4.11) / i386 | OK | OK | OK | 
| pelham | Mac OS X Leopard (10.5.6) / i386 | OK | OK | [ OK ] | 
                INSTALLATION WITH 'R CMD INSTALL --library=edd.buildbin-libdir edd_1.20.0.tar.gz'
* Installing *source* package 'edd' ...
** R
** inst
** preparing package for lazy loading
Loading required package: golubEsets
Loading required package: Biobase
Loading required package: tools
Welcome to Bioconductor
  Vignettes contain introductory material. To view, type
  'openVignette()'. To cite Bioconductor, see
  'citation("Biobase")' and for packages 'citation(pkgname)'.
Loading required package: class
Loading required package: nnet
Loading required package: xtable
** help
 >>> Building/Updating help pages for package 'edd'
     Formats: text html latex example 
  centerScale                       text    html    latex   example
  edd                               text    html    latex   example
  eddDist-class                     text    html    latex   example
  eddObsolete                       text    html    latex   example
  flatQQNorm                        text    html    latex   example
  latEDtable                        text    html    latex   example
  makeCandmat.raw                   text    html    latex   example
Note: removing empty section \details in file 'maxKSp.Rd'
  maxKSp                            text    html    latex   example
  plotED                            text    html    latex   example
** building package indices ...
* DONE (edd)