| edd 1.20.0 Vince Carey
 
 | Bioconductor Changelog |  | Snapshot Date: 2009-04-18 11:27:48 -0700 (Sat, 18 Apr 2009) |  | URL: https://hedgehog.fhcrc.org/bioconductor/branches/RELEASE_2_3/madman/Rpacks/edd |  | Last Changed Rev: 34811 / Revision: 38965 |  | Last Changed Date: 2008-10-21 15:32:58 -0700 (Tue, 21 Oct 2008) | 
 | wilson2 | Linux (openSUSE 11.1) / x86_64 | OK | OK |  | 
| liverpool | Windows Server 2003 R2 (32-bit) / x64 | OK | OK | [ OK ] | 
| pitt | Mac OS X Tiger (10.4.11) / i386 | OK | OK | OK | 
| pelham | Mac OS X Leopard (10.5.6) / i386 | OK | OK | OK | 
installing R.css in E:/biocbld/bbs-2.3-bioc/meat/edd.buildbin-libdir
Using auto-selected zip options ''
---------- Making package edd ------------
  adding build stamp to DESCRIPTION
  installing NAMESPACE file and metadata
  installing R files
  installing inst files
  preparing package edd for lazy loading
Loading required package: golubEsets
Loading required package: Biobase
Loading required package: tools
Welcome to Bioconductor
  Vignettes contain introductory material. To view, type
  'openVignette()'. To cite Bioconductor, see
  'citation("Biobase")' and for packages 'citation(pkgname)'.
Loading required package: class
Loading required package: nnet
Loading required package: xtable
  installing man source files
  installing indices
  installing help
 >>> Building/Updating help pages for package 'edd'
     Formats: text html latex example chm 
  centerScale                       text    html    latex   example chm
  edd                               text    html    latex   example chm
  eddDist-class                     text    html    latex   example chm
  eddObsolete                       text    html    latex   example chm
  flatQQNorm                        text    html    latex   example chm
  latEDtable                        text    html    latex   example chm
  makeCandmat.raw                   text    html    latex   example chm
Note: removing empty section \details in file 'maxKSp.Rd'
Note: removing empty section \details in file 'maxKSp.Rd'
  maxKSp                            text    html    latex   example chm
  plotED                            text    html    latex   example chm
Microsoft HTML Help Compiler 4.74.8702
Compiling e:\biocbld\bbs-2.3-bioc\meat\R.INSTALL.6024\edd\chm\edd.chm
Compile time: 0 minutes, 0 seconds
10	Topics
72	Local links
0	Internet links
1	Graphic
Created e:\biocbld\bbs-2.3-bioc\meat\R.INSTALL.6024\edd\chm\edd.chm, 30,536 bytes
Compression decreased file by 16,975 bytes.
  adding MD5 sums
packaged installation of package 'edd' as edd_1.20.0.zip
* DONE (edd)