| MLInterfaces 1.22.0 V. Carey
 
 | Bioconductor Changelog |  | Snapshot Date: 2009-04-18 11:27:48 -0700 (Sat, 18 Apr 2009) |  | URL: https://hedgehog.fhcrc.org/bioconductor/branches/RELEASE_2_3/madman/Rpacks/MLInterfaces |  | Last Changed Rev: 34811 / Revision: 38965 |  | Last Changed Date: 2008-10-21 15:32:58 -0700 (Tue, 21 Oct 2008) | 
 | wilson2 | Linux (openSUSE 11.1) / x86_64 | OK | OK |  | 
| liverpool | Windows Server 2003 R2 (32-bit) / x64 | OK | OK | OK | 
| pitt | Mac OS X Tiger (10.4.11) / i386 | OK | OK | OK | 
| pelham | Mac OS X Leopard (10.5.6) / i386 | OK | [ OK ] | OK | 
* checking for working pdflatex ... OK
* using log directory '/Users/biocbuild/bbs-2.3-bioc/meat/MLInterfaces.Rcheck'
* using R version 2.8.1 Patched (2009-03-18 r48200)
* using session charset: ASCII
* checking for file 'MLInterfaces/DESCRIPTION' ... OK
* this is package 'MLInterfaces' version '1.22.0'
* checking package name space information ... OK
* checking package dependencies ... OK
* checking if this is a source package ... OK
* checking whether package 'MLInterfaces' can be installed ... OK
* checking package directory ... OK
* checking for portable file names ... OK
* checking for sufficient/correct file permissions ... OK
* checking DESCRIPTION meta-information ... OK
* checking top-level files ... OK
* checking index information ... OK
* checking package subdirectories ... OK
* checking R files for non-ASCII characters ... OK
* checking R files for syntax errors ... OK
* checking whether the package can be loaded ... OK
* checking whether the package can be loaded with stated dependencies ... OK
* checking whether the name space can be loaded with stated dependencies ... OK
* checking for unstated dependencies in R code ... OK
* checking S3 generic/method consistency ... OK
* checking replacement functions ... OK
* checking foreign function calls ... OK
* checking R code for possible problems ... OK
* checking Rd files ... OK
* checking Rd cross-references ... OK
* checking for missing documentation entries ... OK
* checking for code/documentation mismatches ... OK
* checking Rd \usage sections ... OK
* creating MLInterfaces-Ex.R ... OK
* checking examples ... OK
* checking package vignettes in 'inst/doc' ... OK
* creating MLInterfaces-manual.tex ... OK
* checking MLInterfaces-manual.tex using pdflatex ... OK
 
* Installing *source* package 'MLInterfaces' ...
** R
** inst
** preparing package for lazy loading
Loading required package: Biobase
Loading required package: tools
Welcome to Bioconductor
  Vignettes contain introductory material. To view, type
  'openVignette()'. To cite Bioconductor, see
  'citation("Biobase")' and for packages 'citation(pkgname)'.
Loading required package: MASS
Loading required package: genefilter
Loading required package: survival
Loading required package: splines
Attaching package: 'genefilter'
	The following object(s) are masked from package:MASS :
	 area 
Loading required package: rpart
Loading required package: rda
Loading required package: annotate
Loading required package: AnnotationDbi
Loading required package: xtable
Loading required package: cluster
** help
 >>> Building/Updating help pages for package 'MLInterfaces'
     Formats: text html latex example 
Note: removing empty section \examples in file 'MLIntInternals.Rd'
  MLIntInternals                    text    html    latex
  MLearn-new                        text    html    latex   example
  RAB                               text    html    latex   example
  balKfold.xvspec                   text    html    latex   example
  classifierOutput-class            text    html    latex   example
  clusteringOutput-class            text    html    latex   example
  confuMat-methods                  text    html    latex   example
  fs.absT                           text    html    latex   example
  fsHistory                         text    html    latex   example
  learnerSchema-class               text    html    latex   example
  planarPlot-methods                text    html    latex   example
  raboostCont-class                 text    html    latex   example
  varImpStruct-class                text    html    latex   example
  xvalLoop                          text    html    latex   example
  xvalSpec                          text    html    latex   example
** building package indices ...
* DONE (MLInterfaces)