MLInterfaces 1.22.0 V. Carey
 | Bioconductor Changelog |  | Snapshot Date: 2009-04-18 11:27:48 -0700 (Sat, 18 Apr 2009) |  | URL: https://hedgehog.fhcrc.org/bioconductor/branches/RELEASE_2_3/madman/Rpacks/MLInterfaces |  | Last Changed Rev: 34811 / Revision: 38965 |  | Last Changed Date: 2008-10-21 15:32:58 -0700 (Tue, 21 Oct 2008) |  
  | wilson2  | Linux (openSUSE 11.1) / x86_64  |  OK  |  OK  |  | 
| liverpool  | Windows Server 2003 R2 (32-bit) / x64  |  OK  | [ OK ] |  OK  | 
| pitt  | Mac OS X Tiger (10.4.11) / i386  |  OK  |  OK  |  OK  | 
| pelham  | Mac OS X Leopard (10.5.6) / i386  |  OK  |  OK  |  OK  | 
* checking for working pdflatex ... OK
* using log directory 'E:/biocbld/bbs-2.3-bioc/meat/MLInterfaces.Rcheck'
* using R version 2.8.1 (2008-12-22)
* using session charset: ISO8859-1
* checking for file 'MLInterfaces/DESCRIPTION' ... OK
* this is package 'MLInterfaces' version '1.22.0'
* checking package name space information ... OK
* checking package dependencies ... OK
* checking if this is a source package ... OK
* checking whether package 'MLInterfaces' can be installed ... OK
* checking package directory ... OK
* checking for portable file names ... OK
* checking DESCRIPTION meta-information ... OK
* checking top-level files ... OK
* checking index information ... OK
* checking package subdirectories ... OK
* checking R files for non-ASCII characters ... OK
* checking R files for syntax errors ... OK
* checking whether the package can be loaded ... OK
* checking whether the package can be loaded with stated dependencies ... OK
* checking whether the name space can be loaded with stated dependencies ... OK
* checking for unstated dependencies in R code ... OK
* checking S3 generic/method consistency ... OK
* checking replacement functions ... OK
* checking foreign function calls ... OK
* checking R code for possible problems ... OK
* checking Rd files ... OK
* checking Rd cross-references ... OK
* checking for missing documentation entries ... OK
* checking for code/documentation mismatches ... OK
* checking Rd \usage sections ... OK
* creating MLInterfaces-Ex.R ... OK
* checking examples ... OK
* checking package vignettes in 'inst/doc' ... OK
* creating MLInterfaces-manual.tex ... OK
* checking MLInterfaces-manual.tex using pdflatex ... OK
 
installing R.css in E:/biocbld/bbs-2.3-bioc/meat/MLInterfaces.Rcheck
---------- Making package MLInterfaces ------------
  adding build stamp to DESCRIPTION
  installing NAMESPACE file and metadata
  installing R files
  installing inst files
  preparing package MLInterfaces for lazy loading
Loading required package: Biobase
Loading required package: tools
Welcome to Bioconductor
  Vignettes contain introductory material. To view, type
  'openVignette()'. To cite Bioconductor, see
  'citation("Biobase")' and for packages 'citation(pkgname)'.
Loading required package: MASS
Loading required package: genefilter
Loading required package: survival
Loading required package: splines
Attaching package: 'genefilter'
	The following object(s) are masked from package:MASS :
	 area 
Loading required package: rpart
Loading required package: rda
Loading required package: annotate
Loading required package: AnnotationDbi
Loading required package: xtable
Loading required package: cluster
  installing man source files
  installing indices
  installing help
 >>> Building/Updating help pages for package 'MLInterfaces'
     Formats: text html latex example chm 
Note: removing empty section \examples in file 'MLIntInternals.Rd'
Note: removing empty section \examples in file 'MLIntInternals.Rd'
  MLIntInternals                    text    html    latex           chm
  MLearn-new                        text    html    latex   example chm
  RAB                               text    html    latex   example chm
  balKfold.xvspec                   text    html    latex   example chm
  classifierOutput-class            text    html    latex   example chm
  clusteringOutput-class            text    html    latex   example chm
  confuMat-methods                  text    html    latex   example chm
  fs.absT                           text    html    latex   example chm
  fsHistory                         text    html    latex   example chm
  learnerSchema-class               text    html    latex   example chm
  planarPlot-methods                text    html    latex   example chm
  raboostCont-class                 text    html    latex   example chm
  varImpStruct-class                text    html    latex   example chm
  xvalLoop                          text    html    latex   example chm
  xvalSpec                          text    html    latex   example chm
Microsoft HTML Help Compiler 4.74.8702
Compiling e:\biocbld\bbs-2.3-bioc\meat\MLInterfaces.Rcheck\00_pkg_src\MLInterfaces\chm\MLInterfaces.chm
Compile time: 0 minutes, 2 seconds
16	Topics
146	Local links
0	Internet links
1	Graphic
Created e:\biocbld\bbs-2.3-bioc\meat\MLInterfaces.Rcheck\00_pkg_src\MLInterfaces\chm\MLInterfaces.chm, 51,617 bytes
Compression decreased file by 51,444 bytes.
  adding MD5 sums
* DONE (MLInterfaces)