| LBE 1.10.0 Cyril Dalmasso
 
 | Bioconductor Changelog |  | Snapshot Date: 2009-04-18 11:27:48 -0700 (Sat, 18 Apr 2009) |  | URL: https://hedgehog.fhcrc.org/bioconductor/branches/RELEASE_2_3/madman/Rpacks/LBE |  | Last Changed Rev: 34811 / Revision: 38965 |  | Last Changed Date: 2008-10-21 15:32:58 -0700 (Tue, 21 Oct 2008) | 
 | wilson2 | Linux (openSUSE 11.1) / x86_64 | OK | OK |  | 
| liverpool | Windows Server 2003 R2 (32-bit) / x64 | OK | OK | OK | 
| pitt | Mac OS X Tiger (10.4.11) / i386 | OK | OK | OK | 
| pelham | Mac OS X Leopard (10.5.6) / i386 | OK | OK | [ OK ] | 
                INSTALLATION WITH 'R CMD INSTALL --library=LBE.buildbin-libdir LBE_1.10.0.tar.gz'
* Installing *source* package 'LBE' ...
** R
** data
** inst
** preparing package for lazy loading
** help
 >>> Building/Updating help pages for package 'LBE'
     Formats: text html latex example 
Note: unmatched right brace in file 'LBE-package.Rd' on or after line 10
Note: unmatched right brace in file 'LBE-package.Rd' on or after line 11
  LBE-package                       text    html    latex
  LBE                               text    html    latex   example
  LBEa                              text    html    latex   example
  LBEplot                           text    html    latex   example
  LBEsummary                        text    html    latex   example
  LBEwrite                          text    html    latex   example
  golub.pval                        text    html    latex
  hedenfalk.pval                    text    html    latex
** building package indices ...
* DONE (LBE)