| LBE 1.10.0 Cyril Dalmasso
 
 | Bioconductor Changelog |  | Snapshot Date: 2009-04-18 11:27:48 -0700 (Sat, 18 Apr 2009) |  | URL: https://hedgehog.fhcrc.org/bioconductor/branches/RELEASE_2_3/madman/Rpacks/LBE |  | Last Changed Rev: 34811 / Revision: 38965 |  | Last Changed Date: 2008-10-21 15:32:58 -0700 (Tue, 21 Oct 2008) | 
 | wilson2 | Linux (openSUSE 11.1) / x86_64 | OK | OK |  | 
| liverpool | Windows Server 2003 R2 (32-bit) / x64 | [ OK ] | OK | OK | 
| pitt | Mac OS X Tiger (10.4.11) / i386 | OK | OK | OK | 
| pelham | Mac OS X Leopard (10.5.6) / i386 | OK | OK | OK | 
* checking for file 'LBE/DESCRIPTION' ... OK
* preparing 'LBE':
* checking DESCRIPTION meta-information ... OK
* installing the package to re-build vignettes
installing R.css in E:/biocbld/bbs-2.3-bioc/tmpdir/Rinst402066143
---------- Making package LBE ------------
  adding build stamp to DESCRIPTION
  installing R files
  installing inst files
  installing data files
  preparing package LBE for lazy loading
  installing man source files
  installing indices
  not zipping data
  installing help
 >>> Building/Updating help pages for package 'LBE'
     Formats: text html latex example chm 
Note: unmatched right brace in file 'LBE-package.Rd' on or after line 10
Note: unmatched right brace in file 'LBE-package.Rd' on or after line 11
Note: unmatched right brace in file 'LBE-package.Rd' on or after line 10
Note: unmatched right brace in file 'LBE-package.Rd' on or after line 11
  LBE-package                       text    html    latex           chm
  LBE                               text    html    latex   example chm
  LBEa                              text    html    latex   example chm
  LBEplot                           text    html    latex   example chm
  LBEsummary                        text    html    latex   example chm
  LBEwrite                          text    html    latex   example chm
  golub.pval                        text    html    latex           chm
  hedenfalk.pval                    text    html    latex           chm
Microsoft HTML Help Compiler 4.74.8702
Compiling e:\biocbld\bbs-2.3-bioc\meat\LBE\chm\LBE.chm
Compile time: 0 minutes, 2 seconds
9	Topics
36	Local links
0	Internet links
1	Graphic
Created e:\biocbld\bbs-2.3-bioc\meat\LBE\chm\LBE.chm, 26,706 bytes
Compression decreased file by 3,846 bytes.
  adding MD5 sums
* DONE (LBE)
* creating vignettes ... OK
* removing junk files
* checking for LF line-endings in source and make files
* checking for empty or unneeded directories
* building 'LBE_1.10.0.tar.gz'