gaggle 1.10.0 Dan Tenenbaum
 | Bioconductor Changelog |  | Snapshot Date: 2009-04-18 11:27:48 -0700 (Sat, 18 Apr 2009) |  | URL: https://hedgehog.fhcrc.org/bioconductor/branches/RELEASE_2_3/madman/Rpacks/gaggle |  | Last Changed Rev: 37396 / Revision: 38965 |  | Last Changed Date: 2009-02-13 14:14:07 -0800 (Fri, 13 Feb 2009) |  
  | wilson2  | Linux (openSUSE 11.1) / x86_64  | [ OK ] |  OK  |  | 
| liverpool  | Windows Server 2003 R2 (32-bit) / x64  |  OK  |  OK  |  OK  | 
| pitt  | Mac OS X Tiger (10.4.11) / i386  |  OK  |  OK  |  OK  | 
| pelham  | Mac OS X Leopard (10.5.6) / i386  |  OK  |  OK  |  OK  | 
* checking for file 'gaggle/DESCRIPTION' ... OK
* preparing 'gaggle':
* checking DESCRIPTION meta-information ... OK
* installing the package to re-build vignettes
* Installing *source* package 'gaggle' ...
** R
** inst
** preparing package for lazy loading
Loading required package: rJava
Loading required package: graph
Loading required package: RUnit
** help
 >>> Building/Updating help pages for package 'gaggle'
     Formats: text html latex example 
  broadcast                         text    html    latex
Note: removing empty section \arguments in file 'connectToGaggle.Rd'
  connectToGaggle                   text    html    latex
Note: removing empty section \arguments in file 'disconnectFromGaggle.Rd'
  disconnectFromGaggle              text    html    latex
  gaggleInit                        text    html    latex
  geese                             text    html    latex
Note: removing empty section \arguments in file 'getCluster.Rd'
  getCluster                        text    html    latex
  getMatrix                         text    html    latex
Note: removing empty section \arguments in file 'getNameList.Rd'
  getNameList                       text    html    latex
  getNetwork                        text    html    latex
  getSpecies                        text    html    latex
  getTargetGoose                    text    html    latex
Note: removing empty section \arguments in file 'getTuple.Rd'
  getTuple                          text    html    latex
  hideGoose                         text    html    latex
  setSpecies                        text    html    latex
  setTargetGoose                    text    html    latex
  showGoose                         text    html    latex
  testGagglePackage                 text    html    latex
** building package indices ...
* DONE (gaggle)
* creating vignettes ... OK
* removing junk files
* checking for LF line-endings in source and make files
* checking for empty or unneeded directories
* building 'gaggle_1.10.0.tar.gz'